BEGIN:VCALENDAR
VERSION:2.0
PRODID:-//Chung Tai Zen||Center of Houston||普德精舍 - ECPv6.15.17.1//NONSGML v1.0//EN
CALSCALE:GREGORIAN
METHOD:PUBLISH
X-ORIGINAL-URL:https://cthouston.org/?lang=zh-hant
X-WR-CALDESC:Events for Chung Tai Zen||Center of Houston||普德精舍
REFRESH-INTERVAL;VALUE=DURATION:PT1H
X-Robots-Tag:noindex
X-PUBLISHED-TTL:PT1H
BEGIN:VTIMEZONE
TZID:America/Chicago
BEGIN:DAYLIGHT
TZOFFSETFROM:-0600
TZOFFSETTO:-0500
TZNAME:CDT
DTSTART:20240310T080000
END:DAYLIGHT
BEGIN:STANDARD
TZOFFSETFROM:-0500
TZOFFSETTO:-0600
TZNAME:CST
DTSTART:20241103T070000
END:STANDARD
BEGIN:DAYLIGHT
TZOFFSETFROM:-0600
TZOFFSETTO:-0500
TZNAME:CDT
DTSTART:20250309T080000
END:DAYLIGHT
BEGIN:STANDARD
TZOFFSETFROM:-0500
TZOFFSETTO:-0600
TZNAME:CST
DTSTART:20251102T070000
END:STANDARD
BEGIN:DAYLIGHT
TZOFFSETFROM:-0600
TZOFFSETTO:-0500
TZNAME:CDT
DTSTART:20260308T080000
END:DAYLIGHT
BEGIN:STANDARD
TZOFFSETFROM:-0500
TZOFFSETTO:-0600
TZNAME:CST
DTSTART:20261101T070000
END:STANDARD
END:VTIMEZONE
BEGIN:VEVENT
DTSTART;TZID=America/Chicago:20251101T140000
DTEND;TZID=America/Chicago:20251101T160000
DTSTAMP:20260423T181052
CREATED:20241121T123429Z
LAST-MODIFIED:20260224T205336Z
UID:10005826-1762005600-1762012800@cthouston.org
SUMMARY:誦經共修（每週六）
DESCRIPTION:每週六下午\, 2:00-4:00點。
URL:https://cthouston.org/event/%e8%aa%a6%e7%b6%93%e5%85%b1%e4%bf%ae%ef%bc%88%e6%af%8f%e9%80%b1%e5%85%ad%ef%bc%89-3/2025-11-01/?lang=zh-hant
LOCATION:TX
CATEGORIES:禪修課,進行中
ATTACH;FMTTYPE=image/jpeg:https://cthouston.org/wp-content/uploads/2022/11/DSF9701-scaled.jpg
END:VEVENT
BEGIN:VEVENT
DTSTART;TZID=America/Chicago:20251101T163000
DTEND;TZID=America/Chicago:20251101T180000
DTSTAMP:20260423T181052
CREATED:20241224T163758Z
LAST-MODIFIED:20251117T001013Z
UID:10006635-1762014600-1762020000@cthouston.org
SUMMARY:英文親子禪修班（每週六）
DESCRIPTION:親子禪修班為 4-11 歲兒童，家長歡迎一同參加；每週六下午4:30 點至6點\n宗旨：以禪修靜坐培養定力，讓孩子們認識自己的心性，提升專注的能力和體認生命的成長。\n課程內容：靜坐、佛典故事、遊戲活動、唱誦、讀經、分組討論、影片教學 活動等。 \n登記表格請按此
URL:https://cthouston.org/event/%e8%8b%b1%e6%96%87%e8%a6%aa%e5%ad%90%e7%a6%aa%e4%bf%ae%e7%8f%ad/2025-11-01/?lang=zh-hant
LOCATION:Chung Tai Zen Center of Houston\, 12129 Bellaire Blvd\, Houston\, TX\, 77072
CATEGORIES:禪修課,進行中
ATTACH;FMTTYPE=image/png:https://cthouston.org/wp-content/uploads/2023/07/ChildrensMeditation.png
END:VEVENT
BEGIN:VEVENT
DTSTART;TZID=America/Chicago:20251104T193000
DTEND;TZID=America/Chicago:20251104T210000
DTSTAMP:20260423T181052
CREATED:20250812T132441Z
LAST-MODIFIED:20251117T001242Z
UID:10008302-1762284600-1762290000@cthouston.org
SUMMARY:中文研經班（每週二）
DESCRIPTION:週二晚上\, 7:30-9:00點\, 線上：8:00-9:00點。
URL:https://cthouston.org/event/%e4%b8%ad%e6%96%87%e7%a0%94%e7%b6%93%e7%8f%ad%ef%bc%88%e6%af%8f%e9%80%b1%e4%ba%8c%ef%bc%89-2/2025-11-04/?lang=zh-hant
LOCATION:TX
CATEGORIES:禪修課,進行中
ATTACH;FMTTYPE=image/jpeg:https://cthouston.org/wp-content/uploads/2019/10/IMG_4599.jpg
END:VEVENT
BEGIN:VEVENT
DTSTART;TZID=America/Chicago:20251106T100000
DTEND;TZID=America/Chicago:20251106T120000
DTSTAMP:20260423T181052
CREATED:20241121T124754Z
LAST-MODIFIED:20260224T205740Z
UID:10006088-1762423200-1762430400@cthouston.org
SUMMARY:中文研經班（每週四）
DESCRIPTION:每週四\, 早上10:00-12:00點。
URL:https://cthouston.org/event/%e4%b8%ad%e6%96%87%e7%a0%94%e7%b6%93%e7%8f%ad%ef%bc%88%e6%af%8f%e9%80%b1%e5%9b%9b%ef%bc%89-2/2025-11-06/?lang=zh-hant
LOCATION:TX
CATEGORIES:禪修課,進行中
ATTACH;FMTTYPE=image/jpeg:https://cthouston.org/wp-content/uploads/2019/10/IMG_4599.jpg
END:VEVENT
BEGIN:VEVENT
DTSTART;TZID=America/Chicago:20251107T193000
DTEND;TZID=America/Chicago:20251107T213000
DTSTAMP:20260423T181052
CREATED:20241121T124044Z
LAST-MODIFIED:20260224T205550Z
UID:10005568-1762543800-1762551000@cthouston.org
SUMMARY:中文初級禪修班（每週五）
DESCRIPTION:週五晚上\, 7:30-9:00點\, 線上：8:00-9:00點。\n請點登記按鈕
URL:https://cthouston.org/event/%e4%b8%ad%e6%96%87%e5%88%9d%e7%b4%9a%e7%a6%aa%e4%bf%ae%e7%8f%ad%ef%bc%88%e6%af%8f%e9%80%b1%e4%ba%94%ef%bc%89-3/2025-11-07/?lang=zh-hant
LOCATION:TX
CATEGORIES:禪修課,進行中
ATTACH;FMTTYPE=image/jpeg:https://cthouston.org/wp-content/uploads/2019/10/IMG_4599.jpg
END:VEVENT
BEGIN:VEVENT
DTSTART;TZID=America/Chicago:20251107T193000
DTEND;TZID=America/Chicago:20251107T213000
DTSTAMP:20260423T181052
CREATED:20250302T132944Z
LAST-MODIFIED:20260224T205037Z
UID:10007773-1762543800-1762551000@cthouston.org
SUMMARY:中文中級禪修班（每週五）
DESCRIPTION:週五晚上\, 7:30-9:00點\, 線上：8:00-9:00點。
URL:https://cthouston.org/event/%e4%b8%ad%e6%96%87%e4%b8%ad%e7%b4%9a%e7%a6%aa%e4%bf%ae%e7%8f%ad%ef%bc%88%e6%af%8f%e9%80%b1%e4%ba%94%ef%bc%89/2025-11-07/?lang=zh-hant
LOCATION:TX
CATEGORIES:禪修課,進行中
ATTACH;FMTTYPE=image/jpeg:https://cthouston.org/wp-content/uploads/2019/10/IMG_4599.jpg
END:VEVENT
BEGIN:VEVENT
DTSTART;TZID=America/Chicago:20251108T140000
DTEND;TZID=America/Chicago:20251108T160000
DTSTAMP:20260423T181052
CREATED:20241121T123429Z
LAST-MODIFIED:20260224T205336Z
UID:10005827-1762610400-1762617600@cthouston.org
SUMMARY:誦經共修（每週六）
DESCRIPTION:每週六下午\, 2:00-4:00點。
URL:https://cthouston.org/event/%e8%aa%a6%e7%b6%93%e5%85%b1%e4%bf%ae%ef%bc%88%e6%af%8f%e9%80%b1%e5%85%ad%ef%bc%89-3/2025-11-08/?lang=zh-hant
LOCATION:TX
CATEGORIES:禪修課,進行中
ATTACH;FMTTYPE=image/jpeg:https://cthouston.org/wp-content/uploads/2022/11/DSF9701-scaled.jpg
END:VEVENT
BEGIN:VEVENT
DTSTART;TZID=America/Chicago:20251108T163000
DTEND;TZID=America/Chicago:20251108T180000
DTSTAMP:20260423T181052
CREATED:20241224T163758Z
LAST-MODIFIED:20251117T001013Z
UID:10006636-1762619400-1762624800@cthouston.org
SUMMARY:英文親子禪修班（每週六）
DESCRIPTION:親子禪修班為 4-11 歲兒童，家長歡迎一同參加；每週六下午4:30 點至6點\n宗旨：以禪修靜坐培養定力，讓孩子們認識自己的心性，提升專注的能力和體認生命的成長。\n課程內容：靜坐、佛典故事、遊戲活動、唱誦、讀經、分組討論、影片教學 活動等。 \n登記表格請按此
URL:https://cthouston.org/event/%e8%8b%b1%e6%96%87%e8%a6%aa%e5%ad%90%e7%a6%aa%e4%bf%ae%e7%8f%ad/2025-11-08/?lang=zh-hant
LOCATION:Chung Tai Zen Center of Houston\, 12129 Bellaire Blvd\, Houston\, TX\, 77072
CATEGORIES:禪修課,進行中
ATTACH;FMTTYPE=image/png:https://cthouston.org/wp-content/uploads/2023/07/ChildrensMeditation.png
END:VEVENT
BEGIN:VEVENT
DTSTART;TZID=America/Chicago:20251111T193000
DTEND;TZID=America/Chicago:20251111T210000
DTSTAMP:20260423T181052
CREATED:20250812T132441Z
LAST-MODIFIED:20251117T001242Z
UID:10008303-1762889400-1762894800@cthouston.org
SUMMARY:中文研經班（每週二）
DESCRIPTION:週二晚上\, 7:30-9:00點\, 線上：8:00-9:00點。
URL:https://cthouston.org/event/%e4%b8%ad%e6%96%87%e7%a0%94%e7%b6%93%e7%8f%ad%ef%bc%88%e6%af%8f%e9%80%b1%e4%ba%8c%ef%bc%89-2/2025-11-11/?lang=zh-hant
LOCATION:TX
CATEGORIES:禪修課,進行中
ATTACH;FMTTYPE=image/jpeg:https://cthouston.org/wp-content/uploads/2019/10/IMG_4599.jpg
END:VEVENT
BEGIN:VEVENT
DTSTART;TZID=America/Chicago:20251113T100000
DTEND;TZID=America/Chicago:20251113T120000
DTSTAMP:20260423T181052
CREATED:20241121T124754Z
LAST-MODIFIED:20260224T205740Z
UID:10006089-1763028000-1763035200@cthouston.org
SUMMARY:中文研經班（每週四）
DESCRIPTION:每週四\, 早上10:00-12:00點。
URL:https://cthouston.org/event/%e4%b8%ad%e6%96%87%e7%a0%94%e7%b6%93%e7%8f%ad%ef%bc%88%e6%af%8f%e9%80%b1%e5%9b%9b%ef%bc%89-2/2025-11-13/?lang=zh-hant
LOCATION:TX
CATEGORIES:禪修課,進行中
ATTACH;FMTTYPE=image/jpeg:https://cthouston.org/wp-content/uploads/2019/10/IMG_4599.jpg
END:VEVENT
BEGIN:VEVENT
DTSTART;TZID=America/Chicago:20251114T193000
DTEND;TZID=America/Chicago:20251114T213000
DTSTAMP:20260423T181052
CREATED:20241121T124044Z
LAST-MODIFIED:20260224T205550Z
UID:10005569-1763148600-1763155800@cthouston.org
SUMMARY:中文初級禪修班（每週五）
DESCRIPTION:週五晚上\, 7:30-9:00點\, 線上：8:00-9:00點。\n請點登記按鈕
URL:https://cthouston.org/event/%e4%b8%ad%e6%96%87%e5%88%9d%e7%b4%9a%e7%a6%aa%e4%bf%ae%e7%8f%ad%ef%bc%88%e6%af%8f%e9%80%b1%e4%ba%94%ef%bc%89-3/2025-11-14/?lang=zh-hant
LOCATION:TX
CATEGORIES:禪修課,進行中
ATTACH;FMTTYPE=image/jpeg:https://cthouston.org/wp-content/uploads/2019/10/IMG_4599.jpg
END:VEVENT
BEGIN:VEVENT
DTSTART;TZID=America/Chicago:20251114T193000
DTEND;TZID=America/Chicago:20251114T213000
DTSTAMP:20260423T181052
CREATED:20250302T132944Z
LAST-MODIFIED:20260224T205037Z
UID:10007774-1763148600-1763155800@cthouston.org
SUMMARY:中文中級禪修班（每週五）
DESCRIPTION:週五晚上\, 7:30-9:00點\, 線上：8:00-9:00點。
URL:https://cthouston.org/event/%e4%b8%ad%e6%96%87%e4%b8%ad%e7%b4%9a%e7%a6%aa%e4%bf%ae%e7%8f%ad%ef%bc%88%e6%af%8f%e9%80%b1%e4%ba%94%ef%bc%89/2025-11-14/?lang=zh-hant
LOCATION:TX
CATEGORIES:禪修課,進行中
ATTACH;FMTTYPE=image/jpeg:https://cthouston.org/wp-content/uploads/2019/10/IMG_4599.jpg
END:VEVENT
BEGIN:VEVENT
DTSTART;TZID=America/Chicago:20251115T140000
DTEND;TZID=America/Chicago:20251115T160000
DTSTAMP:20260423T181052
CREATED:20241121T123429Z
LAST-MODIFIED:20260224T205336Z
UID:10005828-1763215200-1763222400@cthouston.org
SUMMARY:誦經共修（每週六）
DESCRIPTION:每週六下午\, 2:00-4:00點。
URL:https://cthouston.org/event/%e8%aa%a6%e7%b6%93%e5%85%b1%e4%bf%ae%ef%bc%88%e6%af%8f%e9%80%b1%e5%85%ad%ef%bc%89-3/2025-11-15/?lang=zh-hant
LOCATION:TX
CATEGORIES:禪修課,進行中
ATTACH;FMTTYPE=image/jpeg:https://cthouston.org/wp-content/uploads/2022/11/DSF9701-scaled.jpg
END:VEVENT
BEGIN:VEVENT
DTSTART;TZID=America/Chicago:20251115T163000
DTEND;TZID=America/Chicago:20251115T180000
DTSTAMP:20260423T181052
CREATED:20241224T163758Z
LAST-MODIFIED:20251117T001013Z
UID:10006637-1763224200-1763229600@cthouston.org
SUMMARY:英文親子禪修班（每週六）
DESCRIPTION:親子禪修班為 4-11 歲兒童，家長歡迎一同參加；每週六下午4:30 點至6點\n宗旨：以禪修靜坐培養定力，讓孩子們認識自己的心性，提升專注的能力和體認生命的成長。\n課程內容：靜坐、佛典故事、遊戲活動、唱誦、讀經、分組討論、影片教學 活動等。 \n登記表格請按此
URL:https://cthouston.org/event/%e8%8b%b1%e6%96%87%e8%a6%aa%e5%ad%90%e7%a6%aa%e4%bf%ae%e7%8f%ad/2025-11-15/?lang=zh-hant
LOCATION:Chung Tai Zen Center of Houston\, 12129 Bellaire Blvd\, Houston\, TX\, 77072
CATEGORIES:禪修課,進行中
ATTACH;FMTTYPE=image/png:https://cthouston.org/wp-content/uploads/2023/07/ChildrensMeditation.png
END:VEVENT
BEGIN:VEVENT
DTSTART;TZID=America/Chicago:20251116T090000
DTEND;TZID=America/Chicago:20251116T120000
DTSTAMP:20260423T181052
CREATED:20250911T120919Z
LAST-MODIFIED:20250911T120919Z
UID:10008567-1763283600-1763294400@cthouston.org
SUMMARY:十一月半日禪
DESCRIPTION:
URL:https://cthouston.org/event/%e5%8d%81%e4%b8%80%e6%9c%88%e5%8d%8a%e6%97%a5%e7%a6%aa-2/?lang=zh-hant
LOCATION:Chung Tai Zen Center of Houston\, 12129 Bellaire Blvd\, Houston\, TX\, 77072
CATEGORIES:禪,首頁
ATTACH;FMTTYPE=image/jpeg:https://cthouston.org/wp-content/uploads/2019/10/retreat.jpg
END:VEVENT
BEGIN:VEVENT
DTSTART;TZID=America/Chicago:20251123T100000
DTEND;TZID=America/Chicago:20251123T140000
DTSTAMP:20260423T181052
CREATED:20250516T025705Z
LAST-MODIFIED:20250516T025705Z
UID:10008014-1763892000-1763906400@cthouston.org
SUMMARY:感恩節餐會
DESCRIPTION:
URL:https://cthouston.org/event/%e6%84%9f%e6%81%a9%e7%af%80%e9%a4%90%e6%9c%83-3/?lang=zh-hant
LOCATION:Chung Tai Zen Center of Houston\, 12129 Bellaire Blvd\, Houston\, TX\, 77072
CATEGORIES:慶典,首頁
ATTACH;FMTTYPE=image/jpeg:https://cthouston.org/wp-content/uploads/2019/10/healthyVeggie.jpg
END:VEVENT
END:VCALENDAR