BEGIN:VCALENDAR
VERSION:2.0
PRODID:-//Chung Tai Zen||Center of Houston||普德精舍 - ECPv6.15.17.1//NONSGML v1.0//EN
CALSCALE:GREGORIAN
METHOD:PUBLISH
X-WR-CALNAME:Chung Tai Zen||Center of Houston||普德精舍
X-ORIGINAL-URL:https://cthouston.org
X-WR-CALDESC:Events for Chung Tai Zen||Center of Houston||普德精舍
REFRESH-INTERVAL;VALUE=DURATION:PT1H
X-Robots-Tag:noindex
X-PUBLISHED-TTL:PT1H
BEGIN:VTIMEZONE
TZID:America/Chicago
BEGIN:DAYLIGHT
TZOFFSETFROM:-0600
TZOFFSETTO:-0500
TZNAME:CDT
DTSTART:20240310T080000
END:DAYLIGHT
BEGIN:STANDARD
TZOFFSETFROM:-0500
TZOFFSETTO:-0600
TZNAME:CST
DTSTART:20241103T070000
END:STANDARD
BEGIN:DAYLIGHT
TZOFFSETFROM:-0600
TZOFFSETTO:-0500
TZNAME:CDT
DTSTART:20250309T080000
END:DAYLIGHT
BEGIN:STANDARD
TZOFFSETFROM:-0500
TZOFFSETTO:-0600
TZNAME:CST
DTSTART:20251102T070000
END:STANDARD
BEGIN:DAYLIGHT
TZOFFSETFROM:-0600
TZOFFSETTO:-0500
TZNAME:CDT
DTSTART:20260308T080000
END:DAYLIGHT
BEGIN:STANDARD
TZOFFSETFROM:-0500
TZOFFSETTO:-0600
TZNAME:CST
DTSTART:20261101T070000
END:STANDARD
END:VTIMEZONE
BEGIN:VEVENT
DTSTART;TZID=America/Chicago:20251001T193000
DTEND;TZID=America/Chicago:20251001T213000
DTSTAMP:20260421T223347
CREATED:20240802T190013Z
LAST-MODIFIED:20260324T134356Z
UID:10003401-1759347000-1759354200@cthouston.org
SUMMARY:Meditation Level 3 (Advanced - Every Wednesday Evening)
DESCRIPTION:Click here to register
URL:https://cthouston.org/event/meditation-level-2-intermediate-every-wednesday-evening-2/2025-10-01/
LOCATION:Chung Tai Zen Center of Houston\, 12129 Bellaire Blvd\, Houston\, TX\, 77072
CATEGORIES:Classes,Ongoing
ATTACH;FMTTYPE=image/jpeg:https://cthouston.org/wp-content/uploads/2019/10/IMG_4599-e1572127420652.jpg
END:VEVENT
BEGIN:VEVENT
DTSTART;TZID=America/Chicago:20251001T193000
DTEND;TZID=America/Chicago:20251001T213000
DTSTAMP:20260421T223347
CREATED:20240802T190436Z
LAST-MODIFIED:20260324T134437Z
UID:10007497-1759347000-1759354200@cthouston.org
SUMMARY:Meditation Level 2 (Intermediate- Every Wednesday Evening)
DESCRIPTION:Click here to register
URL:https://cthouston.org/event/meditation-level-2-intermediate-2/2025-10-01/
LOCATION:Chung Tai Zen Center of Houston\, 12129 Bellaire Blvd\, Houston\, TX\, 77072
CATEGORIES:Classes,Ongoing
ATTACH;FMTTYPE=image/jpeg:https://cthouston.org/wp-content/uploads/2019/10/IMG_4599-e1572127420652.jpg
END:VEVENT
BEGIN:VEVENT
DTSTART;TZID=America/Chicago:20251002T190000
DTEND;TZID=America/Chicago:20251002T213000
DTSTAMP:20260421T223347
CREATED:20241121T120512Z
LAST-MODIFIED:20260324T134511Z
UID:10002350-1759431600-1759440600@cthouston.org
SUMMARY:Sutra Study 1 (Every Thursday Evening)
DESCRIPTION:Click here to register
URL:https://cthouston.org/event/sutra-study-1-every-thursday-evening-2-2-2-2/2025-10-02/
LOCATION:Chung Tai Zen Center of Houston\, 12129 Bellaire Blvd\, Houston\, TX\, 77072
CATEGORIES:Classes,Ongoing
ATTACH;FMTTYPE=image/jpeg:https://cthouston.org/wp-content/uploads/2019/10/IMG_4599-e1572127420652.jpg
END:VEVENT
BEGIN:VEVENT
DTSTART;TZID=America/Chicago:20251004T100000
DTEND;TZID=America/Chicago:20251004T120000
DTSTAMP:20260421T223347
CREATED:20240802T190828Z
LAST-MODIFIED:20260324T134542Z
UID:10002869-1759572000-1759579200@cthouston.org
SUMMARY:Meditation Level 1 (Beginner - Every Saturday Morning)
DESCRIPTION:Click here to register
URL:https://cthouston.org/event/meditation-level-1-beginner-every-saturday-morning-2-2/2025-10-04/
LOCATION:Chung Tai Zen Center of Houston\, 12129 Bellaire Blvd\, Houston\, TX\, 77072
CATEGORIES:Classes,Ongoing
ATTACH;FMTTYPE=image/jpeg:https://cthouston.org/wp-content/uploads/2019/10/IMG_4599-e1572127420652.jpg
END:VEVENT
BEGIN:VEVENT
DTSTART;TZID=America/Chicago:20251004T163000
DTEND;TZID=America/Chicago:20251004T183000
DTSTAMP:20260421T223347
CREATED:20250531T020313Z
LAST-MODIFIED:20260324T134616Z
UID:10003803-1759595400-1759602600@cthouston.org
SUMMARY:Children's Meditation (Every Saturday Evening)
DESCRIPTION:Children’s meditation class is for children of age 4 to 12 years old. This class is designed to help students discover their inner wisdom and develop their potential\, positive and moral outlook on life through meditation and Chan stories. The creatively designed curriculum consists of instructions on meditation techniques\, dharma talks\, Buddhist/Chan stories\, mind-developing activities\, group discussions\, and fun crafts. \nSchedule: \n4:30 p.m. Chanting & meditation \n5:00 p.m. Dharma talk \n5:30 p.m. Group activities \n6:00 p.m. Dinner \nClick here to register
URL:https://cthouston.org/event/childrens-meditation-class-saturday-2-2/2025-10-04/
LOCATION:Chung Tai Zen Center of Houston\, 12129 Bellaire Blvd\, Houston\, TX\, 77072
CATEGORIES:Classes,Ongoing
ATTACH;FMTTYPE=image/png:https://cthouston.org/wp-content/uploads/2023/07/ChildrensMeditation.png
END:VEVENT
BEGIN:VEVENT
DTSTART;TZID=America/Chicago:20251006T193000
DTEND;TZID=America/Chicago:20251006T213000
DTSTAMP:20260421T223347
CREATED:20241224T025503Z
LAST-MODIFIED:20260324T134720Z
UID:10001574-1759779000-1759786200@cthouston.org
SUMMARY:Meditation Level 1 (Beginner - Every Monday Evening)
DESCRIPTION:Click here to register
URL:https://cthouston.org/event/meditation-level-1-beginner-every-monday-evening-2-2-2/2025-10-06/
LOCATION:Chung Tai Zen Center of Houston\, 12129 Bellaire Blvd\, Houston\, TX\, 77072
CATEGORIES:Classes,Ongoing
ATTACH;FMTTYPE=image/jpeg:https://cthouston.org/wp-content/uploads/2019/10/IMG_4599-e1572127420652.jpg
END:VEVENT
BEGIN:VEVENT
DTSTART;TZID=America/Chicago:20251008T193000
DTEND;TZID=America/Chicago:20251008T213000
DTSTAMP:20260421T223347
CREATED:20240802T190013Z
LAST-MODIFIED:20260324T134356Z
UID:10003402-1759951800-1759959000@cthouston.org
SUMMARY:Meditation Level 3 (Advanced - Every Wednesday Evening)
DESCRIPTION:Click here to register
URL:https://cthouston.org/event/meditation-level-2-intermediate-every-wednesday-evening-2/2025-10-08/
LOCATION:Chung Tai Zen Center of Houston\, 12129 Bellaire Blvd\, Houston\, TX\, 77072
CATEGORIES:Classes,Ongoing
ATTACH;FMTTYPE=image/jpeg:https://cthouston.org/wp-content/uploads/2019/10/IMG_4599-e1572127420652.jpg
END:VEVENT
BEGIN:VEVENT
DTSTART;TZID=America/Chicago:20251008T193000
DTEND;TZID=America/Chicago:20251008T213000
DTSTAMP:20260421T223347
CREATED:20240802T190436Z
LAST-MODIFIED:20260324T134437Z
UID:10007498-1759951800-1759959000@cthouston.org
SUMMARY:Meditation Level 2 (Intermediate- Every Wednesday Evening)
DESCRIPTION:Click here to register
URL:https://cthouston.org/event/meditation-level-2-intermediate-2/2025-10-08/
LOCATION:Chung Tai Zen Center of Houston\, 12129 Bellaire Blvd\, Houston\, TX\, 77072
CATEGORIES:Classes,Ongoing
ATTACH;FMTTYPE=image/jpeg:https://cthouston.org/wp-content/uploads/2019/10/IMG_4599-e1572127420652.jpg
END:VEVENT
BEGIN:VEVENT
DTSTART;TZID=America/Chicago:20251009T190000
DTEND;TZID=America/Chicago:20251009T213000
DTSTAMP:20260421T223347
CREATED:20241121T120512Z
LAST-MODIFIED:20260324T134511Z
UID:10002351-1760036400-1760045400@cthouston.org
SUMMARY:Sutra Study 1 (Every Thursday Evening)
DESCRIPTION:Click here to register
URL:https://cthouston.org/event/sutra-study-1-every-thursday-evening-2-2-2-2/2025-10-09/
LOCATION:Chung Tai Zen Center of Houston\, 12129 Bellaire Blvd\, Houston\, TX\, 77072
CATEGORIES:Classes,Ongoing
ATTACH;FMTTYPE=image/jpeg:https://cthouston.org/wp-content/uploads/2019/10/IMG_4599-e1572127420652.jpg
END:VEVENT
BEGIN:VEVENT
DTSTART;TZID=America/Chicago:20251011T100000
DTEND;TZID=America/Chicago:20251011T120000
DTSTAMP:20260421T223347
CREATED:20240802T190828Z
LAST-MODIFIED:20260324T134542Z
UID:10002870-1760176800-1760184000@cthouston.org
SUMMARY:Meditation Level 1 (Beginner - Every Saturday Morning)
DESCRIPTION:Click here to register
URL:https://cthouston.org/event/meditation-level-1-beginner-every-saturday-morning-2-2/2025-10-11/
LOCATION:Chung Tai Zen Center of Houston\, 12129 Bellaire Blvd\, Houston\, TX\, 77072
CATEGORIES:Classes,Ongoing
ATTACH;FMTTYPE=image/jpeg:https://cthouston.org/wp-content/uploads/2019/10/IMG_4599-e1572127420652.jpg
END:VEVENT
BEGIN:VEVENT
DTSTART;TZID=America/Chicago:20251011T163000
DTEND;TZID=America/Chicago:20251011T183000
DTSTAMP:20260421T223347
CREATED:20250531T020313Z
LAST-MODIFIED:20260324T134616Z
UID:10003804-1760200200-1760207400@cthouston.org
SUMMARY:Children's Meditation (Every Saturday Evening)
DESCRIPTION:Children’s meditation class is for children of age 4 to 12 years old. This class is designed to help students discover their inner wisdom and develop their potential\, positive and moral outlook on life through meditation and Chan stories. The creatively designed curriculum consists of instructions on meditation techniques\, dharma talks\, Buddhist/Chan stories\, mind-developing activities\, group discussions\, and fun crafts. \nSchedule: \n4:30 p.m. Chanting & meditation \n5:00 p.m. Dharma talk \n5:30 p.m. Group activities \n6:00 p.m. Dinner \nClick here to register
URL:https://cthouston.org/event/childrens-meditation-class-saturday-2-2/2025-10-11/
LOCATION:Chung Tai Zen Center of Houston\, 12129 Bellaire Blvd\, Houston\, TX\, 77072
CATEGORIES:Classes,Ongoing
ATTACH;FMTTYPE=image/png:https://cthouston.org/wp-content/uploads/2023/07/ChildrensMeditation.png
END:VEVENT
BEGIN:VEVENT
DTSTART;TZID=America/Chicago:20251011T190000
DTEND;TZID=America/Chicago:20251011T200000
DTSTAMP:20260421T223347
CREATED:20250904T183021Z
LAST-MODIFIED:20251116T232309Z
UID:10008553-1760209200-1760212800@cthouston.org
SUMMARY:Youth's Meditation (Every other Saturday evening)
DESCRIPTION:
URL:https://cthouston.org/event/youths-meditation-class/2025-10-11/
LOCATION:Chung Tai Zen Center of Houston\, 12129 Bellaire Blvd\, Houston\, TX\, 77072
CATEGORIES:Classes,Ongoing
ATTACH;FMTTYPE=image/jpeg:https://cthouston.org/wp-content/uploads/2019/07/BuddhaStatue1-1.jpg
END:VEVENT
BEGIN:VEVENT
DTSTART;TZID=America/Chicago:20251012T090000
DTEND;TZID=America/Chicago:20251012T120000
DTSTAMP:20260421T223347
CREATED:20250909T132240Z
LAST-MODIFIED:20250909T132240Z
UID:10008564-1760259600-1760270400@cthouston.org
SUMMARY:October Half-Day Meditation Retreat
DESCRIPTION:
URL:https://cthouston.org/event/half-day-meditation-retreat-11/
LOCATION:Chung Tai Zen Center of Houston\, 12129 Bellaire Blvd\, Houston\, TX\, 77072
CATEGORIES:FrontPage,Retreats
ATTACH;FMTTYPE=image/jpeg:https://cthouston.org/wp-content/uploads/2019/10/retreat.jpg
END:VEVENT
BEGIN:VEVENT
DTSTART;TZID=America/Chicago:20251013T193000
DTEND;TZID=America/Chicago:20251013T213000
DTSTAMP:20260421T223347
CREATED:20241224T025503Z
LAST-MODIFIED:20260324T134720Z
UID:10001575-1760383800-1760391000@cthouston.org
SUMMARY:Meditation Level 1 (Beginner - Every Monday Evening)
DESCRIPTION:Click here to register
URL:https://cthouston.org/event/meditation-level-1-beginner-every-monday-evening-2-2-2/2025-10-13/
LOCATION:Chung Tai Zen Center of Houston\, 12129 Bellaire Blvd\, Houston\, TX\, 77072
CATEGORIES:Classes,Ongoing
ATTACH;FMTTYPE=image/jpeg:https://cthouston.org/wp-content/uploads/2019/10/IMG_4599-e1572127420652.jpg
END:VEVENT
BEGIN:VEVENT
DTSTART;TZID=America/Chicago:20251015T193000
DTEND;TZID=America/Chicago:20251015T213000
DTSTAMP:20260421T223347
CREATED:20240802T190013Z
LAST-MODIFIED:20260324T134356Z
UID:10003403-1760556600-1760563800@cthouston.org
SUMMARY:Meditation Level 3 (Advanced - Every Wednesday Evening)
DESCRIPTION:Click here to register
URL:https://cthouston.org/event/meditation-level-2-intermediate-every-wednesday-evening-2/2025-10-15/
LOCATION:Chung Tai Zen Center of Houston\, 12129 Bellaire Blvd\, Houston\, TX\, 77072
CATEGORIES:Classes,Ongoing
ATTACH;FMTTYPE=image/jpeg:https://cthouston.org/wp-content/uploads/2019/10/IMG_4599-e1572127420652.jpg
END:VEVENT
BEGIN:VEVENT
DTSTART;TZID=America/Chicago:20251015T193000
DTEND;TZID=America/Chicago:20251015T213000
DTSTAMP:20260421T223347
CREATED:20240802T190436Z
LAST-MODIFIED:20260324T134437Z
UID:10007499-1760556600-1760563800@cthouston.org
SUMMARY:Meditation Level 2 (Intermediate- Every Wednesday Evening)
DESCRIPTION:Click here to register
URL:https://cthouston.org/event/meditation-level-2-intermediate-2/2025-10-15/
LOCATION:Chung Tai Zen Center of Houston\, 12129 Bellaire Blvd\, Houston\, TX\, 77072
CATEGORIES:Classes,Ongoing
ATTACH;FMTTYPE=image/jpeg:https://cthouston.org/wp-content/uploads/2019/10/IMG_4599-e1572127420652.jpg
END:VEVENT
BEGIN:VEVENT
DTSTART;TZID=America/Chicago:20251016T190000
DTEND;TZID=America/Chicago:20251016T213000
DTSTAMP:20260421T223347
CREATED:20241121T120512Z
LAST-MODIFIED:20260324T134511Z
UID:10002352-1760641200-1760650200@cthouston.org
SUMMARY:Sutra Study 1 (Every Thursday Evening)
DESCRIPTION:Click here to register
URL:https://cthouston.org/event/sutra-study-1-every-thursday-evening-2-2-2-2/2025-10-16/
LOCATION:Chung Tai Zen Center of Houston\, 12129 Bellaire Blvd\, Houston\, TX\, 77072
CATEGORIES:Classes,Ongoing
ATTACH;FMTTYPE=image/jpeg:https://cthouston.org/wp-content/uploads/2019/10/IMG_4599-e1572127420652.jpg
END:VEVENT
BEGIN:VEVENT
DTSTART;TZID=America/Chicago:20251018T100000
DTEND;TZID=America/Chicago:20251018T120000
DTSTAMP:20260421T223347
CREATED:20240802T190828Z
LAST-MODIFIED:20260324T134542Z
UID:10002871-1760781600-1760788800@cthouston.org
SUMMARY:Meditation Level 1 (Beginner - Every Saturday Morning)
DESCRIPTION:Click here to register
URL:https://cthouston.org/event/meditation-level-1-beginner-every-saturday-morning-2-2/2025-10-18/
LOCATION:Chung Tai Zen Center of Houston\, 12129 Bellaire Blvd\, Houston\, TX\, 77072
CATEGORIES:Classes,Ongoing
ATTACH;FMTTYPE=image/jpeg:https://cthouston.org/wp-content/uploads/2019/10/IMG_4599-e1572127420652.jpg
END:VEVENT
BEGIN:VEVENT
DTSTART;TZID=America/Chicago:20251018T163000
DTEND;TZID=America/Chicago:20251018T183000
DTSTAMP:20260421T223347
CREATED:20250531T020313Z
LAST-MODIFIED:20260324T134616Z
UID:10003805-1760805000-1760812200@cthouston.org
SUMMARY:Children's Meditation (Every Saturday Evening)
DESCRIPTION:Children’s meditation class is for children of age 4 to 12 years old. This class is designed to help students discover their inner wisdom and develop their potential\, positive and moral outlook on life through meditation and Chan stories. The creatively designed curriculum consists of instructions on meditation techniques\, dharma talks\, Buddhist/Chan stories\, mind-developing activities\, group discussions\, and fun crafts. \nSchedule: \n4:30 p.m. Chanting & meditation \n5:00 p.m. Dharma talk \n5:30 p.m. Group activities \n6:00 p.m. Dinner \nClick here to register
URL:https://cthouston.org/event/childrens-meditation-class-saturday-2-2/2025-10-18/
LOCATION:Chung Tai Zen Center of Houston\, 12129 Bellaire Blvd\, Houston\, TX\, 77072
CATEGORIES:Classes,Ongoing
ATTACH;FMTTYPE=image/png:https://cthouston.org/wp-content/uploads/2023/07/ChildrensMeditation.png
END:VEVENT
BEGIN:VEVENT
DTSTART;TZID=America/Chicago:20251019T093000
DTEND;TZID=America/Chicago:20251019T153000
DTSTAMP:20260421T223347
CREATED:20250514T025550Z
LAST-MODIFIED:20250514T025550Z
UID:10008010-1760866200-1760887800@cthouston.org
SUMMARY:88 Buddhas Repentance Ceremony
DESCRIPTION:
URL:https://cthouston.org/event/88-buddhas-repentance-ceremony-10-25/
LOCATION:Chung Tai Zen Center of Houston\, 12129 Bellaire Blvd\, Houston\, TX\, 77072
CATEGORIES:Ceremonies,FrontPage
ATTACH;FMTTYPE=image/jpeg:https://cthouston.org/wp-content/uploads/2022/11/DSF9701-scaled.jpg
END:VEVENT
BEGIN:VEVENT
DTSTART;TZID=America/Chicago:20251020T193000
DTEND;TZID=America/Chicago:20251020T213000
DTSTAMP:20260421T223347
CREATED:20241224T025503Z
LAST-MODIFIED:20260324T134720Z
UID:10001576-1760988600-1760995800@cthouston.org
SUMMARY:Meditation Level 1 (Beginner - Every Monday Evening)
DESCRIPTION:Click here to register
URL:https://cthouston.org/event/meditation-level-1-beginner-every-monday-evening-2-2-2/2025-10-20/
LOCATION:Chung Tai Zen Center of Houston\, 12129 Bellaire Blvd\, Houston\, TX\, 77072
CATEGORIES:Classes,Ongoing
ATTACH;FMTTYPE=image/jpeg:https://cthouston.org/wp-content/uploads/2019/10/IMG_4599-e1572127420652.jpg
END:VEVENT
BEGIN:VEVENT
DTSTART;TZID=America/Chicago:20251022T193000
DTEND;TZID=America/Chicago:20251022T213000
DTSTAMP:20260421T223347
CREATED:20240802T190013Z
LAST-MODIFIED:20260324T134356Z
UID:10003404-1761161400-1761168600@cthouston.org
SUMMARY:Meditation Level 3 (Advanced - Every Wednesday Evening)
DESCRIPTION:Click here to register
URL:https://cthouston.org/event/meditation-level-2-intermediate-every-wednesday-evening-2/2025-10-22/
LOCATION:Chung Tai Zen Center of Houston\, 12129 Bellaire Blvd\, Houston\, TX\, 77072
CATEGORIES:Classes,Ongoing
ATTACH;FMTTYPE=image/jpeg:https://cthouston.org/wp-content/uploads/2019/10/IMG_4599-e1572127420652.jpg
END:VEVENT
BEGIN:VEVENT
DTSTART;TZID=America/Chicago:20251022T193000
DTEND;TZID=America/Chicago:20251022T213000
DTSTAMP:20260421T223347
CREATED:20240802T190436Z
LAST-MODIFIED:20260324T134437Z
UID:10007500-1761161400-1761168600@cthouston.org
SUMMARY:Meditation Level 2 (Intermediate- Every Wednesday Evening)
DESCRIPTION:Click here to register
URL:https://cthouston.org/event/meditation-level-2-intermediate-2/2025-10-22/
LOCATION:Chung Tai Zen Center of Houston\, 12129 Bellaire Blvd\, Houston\, TX\, 77072
CATEGORIES:Classes,Ongoing
ATTACH;FMTTYPE=image/jpeg:https://cthouston.org/wp-content/uploads/2019/10/IMG_4599-e1572127420652.jpg
END:VEVENT
BEGIN:VEVENT
DTSTART;TZID=America/Chicago:20251023T190000
DTEND;TZID=America/Chicago:20251023T213000
DTSTAMP:20260421T223347
CREATED:20241121T120512Z
LAST-MODIFIED:20260324T134511Z
UID:10002353-1761246000-1761255000@cthouston.org
SUMMARY:Sutra Study 1 (Every Thursday Evening)
DESCRIPTION:Click here to register
URL:https://cthouston.org/event/sutra-study-1-every-thursday-evening-2-2-2-2/2025-10-23/
LOCATION:Chung Tai Zen Center of Houston\, 12129 Bellaire Blvd\, Houston\, TX\, 77072
CATEGORIES:Classes,Ongoing
ATTACH;FMTTYPE=image/jpeg:https://cthouston.org/wp-content/uploads/2019/10/IMG_4599-e1572127420652.jpg
END:VEVENT
BEGIN:VEVENT
DTSTART;TZID=America/Chicago:20251025T100000
DTEND;TZID=America/Chicago:20251025T120000
DTSTAMP:20260421T223347
CREATED:20240802T190828Z
LAST-MODIFIED:20260324T134542Z
UID:10002872-1761386400-1761393600@cthouston.org
SUMMARY:Meditation Level 1 (Beginner - Every Saturday Morning)
DESCRIPTION:Click here to register
URL:https://cthouston.org/event/meditation-level-1-beginner-every-saturday-morning-2-2/2025-10-25/
LOCATION:Chung Tai Zen Center of Houston\, 12129 Bellaire Blvd\, Houston\, TX\, 77072
CATEGORIES:Classes,Ongoing
ATTACH;FMTTYPE=image/jpeg:https://cthouston.org/wp-content/uploads/2019/10/IMG_4599-e1572127420652.jpg
END:VEVENT
BEGIN:VEVENT
DTSTART;TZID=America/Chicago:20251025T163000
DTEND;TZID=America/Chicago:20251025T183000
DTSTAMP:20260421T223347
CREATED:20250531T020313Z
LAST-MODIFIED:20260324T134616Z
UID:10003806-1761409800-1761417000@cthouston.org
SUMMARY:Children's Meditation (Every Saturday Evening)
DESCRIPTION:Children’s meditation class is for children of age 4 to 12 years old. This class is designed to help students discover their inner wisdom and develop their potential\, positive and moral outlook on life through meditation and Chan stories. The creatively designed curriculum consists of instructions on meditation techniques\, dharma talks\, Buddhist/Chan stories\, mind-developing activities\, group discussions\, and fun crafts. \nSchedule: \n4:30 p.m. Chanting & meditation \n5:00 p.m. Dharma talk \n5:30 p.m. Group activities \n6:00 p.m. Dinner \nClick here to register
URL:https://cthouston.org/event/childrens-meditation-class-saturday-2-2/2025-10-25/
LOCATION:Chung Tai Zen Center of Houston\, 12129 Bellaire Blvd\, Houston\, TX\, 77072
CATEGORIES:Classes,Ongoing
ATTACH;FMTTYPE=image/png:https://cthouston.org/wp-content/uploads/2023/07/ChildrensMeditation.png
END:VEVENT
BEGIN:VEVENT
DTSTART;TZID=America/Chicago:20251025T190000
DTEND;TZID=America/Chicago:20251025T200000
DTSTAMP:20260421T223347
CREATED:20250904T183021Z
LAST-MODIFIED:20251116T232309Z
UID:10008554-1761418800-1761422400@cthouston.org
SUMMARY:Youth's Meditation (Every other Saturday evening)
DESCRIPTION:
URL:https://cthouston.org/event/youths-meditation-class/2025-10-25/
LOCATION:Chung Tai Zen Center of Houston\, 12129 Bellaire Blvd\, Houston\, TX\, 77072
CATEGORIES:Classes,Ongoing
ATTACH;FMTTYPE=image/jpeg:https://cthouston.org/wp-content/uploads/2019/07/BuddhaStatue1-1.jpg
END:VEVENT
BEGIN:VEVENT
DTSTART;TZID=America/Chicago:20251026T090000
DTEND;TZID=America/Chicago:20251026T120000
DTSTAMP:20260421T223347
CREATED:20250909T132342Z
LAST-MODIFIED:20250909T132342Z
UID:10008565-1761469200-1761480000@cthouston.org
SUMMARY:October Half-Day Meditation Retreat
DESCRIPTION:
URL:https://cthouston.org/event/october-half-day-meditation-retreat-2/
LOCATION:Chung Tai Zen Center of Houston\, 12129 Bellaire Blvd\, Houston\, TX\, 77072
CATEGORIES:FrontPage,Retreats
ATTACH;FMTTYPE=image/jpeg:https://cthouston.org/wp-content/uploads/2019/10/retreat.jpg
END:VEVENT
BEGIN:VEVENT
DTSTART;TZID=America/Chicago:20251027T193000
DTEND;TZID=America/Chicago:20251027T213000
DTSTAMP:20260421T223347
CREATED:20241224T025503Z
LAST-MODIFIED:20260324T134720Z
UID:10001577-1761593400-1761600600@cthouston.org
SUMMARY:Meditation Level 1 (Beginner - Every Monday Evening)
DESCRIPTION:Click here to register
URL:https://cthouston.org/event/meditation-level-1-beginner-every-monday-evening-2-2-2/2025-10-27/
LOCATION:Chung Tai Zen Center of Houston\, 12129 Bellaire Blvd\, Houston\, TX\, 77072
CATEGORIES:Classes,Ongoing
ATTACH;FMTTYPE=image/jpeg:https://cthouston.org/wp-content/uploads/2019/10/IMG_4599-e1572127420652.jpg
END:VEVENT
BEGIN:VEVENT
DTSTART;TZID=America/Chicago:20251029T193000
DTEND;TZID=America/Chicago:20251029T213000
DTSTAMP:20260421T223347
CREATED:20240802T190013Z
LAST-MODIFIED:20260324T134356Z
UID:10003405-1761766200-1761773400@cthouston.org
SUMMARY:Meditation Level 3 (Advanced - Every Wednesday Evening)
DESCRIPTION:Click here to register
URL:https://cthouston.org/event/meditation-level-2-intermediate-every-wednesday-evening-2/2025-10-29/
LOCATION:Chung Tai Zen Center of Houston\, 12129 Bellaire Blvd\, Houston\, TX\, 77072
CATEGORIES:Classes,Ongoing
ATTACH;FMTTYPE=image/jpeg:https://cthouston.org/wp-content/uploads/2019/10/IMG_4599-e1572127420652.jpg
END:VEVENT
END:VCALENDAR