BEGIN:VCALENDAR
VERSION:2.0
PRODID:-//Chung Tai Zen||Center of Houston||普德精舍 - ECPv6.15.17.1//NONSGML v1.0//EN
CALSCALE:GREGORIAN
METHOD:PUBLISH
X-ORIGINAL-URL:https://cthouston.org
X-WR-CALDESC:Events for Chung Tai Zen||Center of Houston||普德精舍
REFRESH-INTERVAL;VALUE=DURATION:PT1H
X-Robots-Tag:noindex
X-PUBLISHED-TTL:PT1H
BEGIN:VTIMEZONE
TZID:America/Chicago
BEGIN:DAYLIGHT
TZOFFSETFROM:-0600
TZOFFSETTO:-0500
TZNAME:CDT
DTSTART:20240310T080000
END:DAYLIGHT
BEGIN:STANDARD
TZOFFSETFROM:-0500
TZOFFSETTO:-0600
TZNAME:CST
DTSTART:20241103T070000
END:STANDARD
BEGIN:DAYLIGHT
TZOFFSETFROM:-0600
TZOFFSETTO:-0500
TZNAME:CDT
DTSTART:20250309T080000
END:DAYLIGHT
BEGIN:STANDARD
TZOFFSETFROM:-0500
TZOFFSETTO:-0600
TZNAME:CST
DTSTART:20251102T070000
END:STANDARD
BEGIN:DAYLIGHT
TZOFFSETFROM:-0600
TZOFFSETTO:-0500
TZNAME:CDT
DTSTART:20260308T080000
END:DAYLIGHT
BEGIN:STANDARD
TZOFFSETFROM:-0500
TZOFFSETTO:-0600
TZNAME:CST
DTSTART:20261101T070000
END:STANDARD
END:VTIMEZONE
BEGIN:VEVENT
DTSTART;TZID=America/Chicago:20250908T193000
DTEND;TZID=America/Chicago:20250908T213000
DTSTAMP:20260422T052057
CREATED:20241224T025503Z
LAST-MODIFIED:20260324T134720Z
UID:10001570-1757359800-1757367000@cthouston.org
SUMMARY:Meditation Level 1 (Beginner - Every Monday Evening)
DESCRIPTION:Click here to register
URL:https://cthouston.org/event/meditation-level-1-beginner-every-monday-evening-2-2-2/2025-09-08/
LOCATION:Chung Tai Zen Center of Houston\, 12129 Bellaire Blvd\, Houston\, TX\, 77072
CATEGORIES:Classes,Ongoing
ATTACH;FMTTYPE=image/jpeg:https://cthouston.org/wp-content/uploads/2019/10/IMG_4599-e1572127420652.jpg
END:VEVENT
BEGIN:VEVENT
DTSTART;TZID=America/Chicago:20250910T193000
DTEND;TZID=America/Chicago:20250910T213000
DTSTAMP:20260422T052057
CREATED:20240802T190013Z
LAST-MODIFIED:20260324T134356Z
UID:10003398-1757532600-1757539800@cthouston.org
SUMMARY:Meditation Level 3 (Advanced - Every Wednesday Evening)
DESCRIPTION:Click here to register
URL:https://cthouston.org/event/meditation-level-2-intermediate-every-wednesday-evening-2/2025-09-10/
LOCATION:Chung Tai Zen Center of Houston\, 12129 Bellaire Blvd\, Houston\, TX\, 77072
CATEGORIES:Classes,Ongoing
ATTACH;FMTTYPE=image/jpeg:https://cthouston.org/wp-content/uploads/2019/10/IMG_4599-e1572127420652.jpg
END:VEVENT
BEGIN:VEVENT
DTSTART;TZID=America/Chicago:20250910T193000
DTEND;TZID=America/Chicago:20250910T213000
DTSTAMP:20260422T052057
CREATED:20240802T190436Z
LAST-MODIFIED:20260324T134437Z
UID:10007494-1757532600-1757539800@cthouston.org
SUMMARY:Meditation Level 2 (Intermediate- Every Wednesday Evening)
DESCRIPTION:Click here to register
URL:https://cthouston.org/event/meditation-level-2-intermediate-2/2025-09-10/
LOCATION:Chung Tai Zen Center of Houston\, 12129 Bellaire Blvd\, Houston\, TX\, 77072
CATEGORIES:Classes,Ongoing
ATTACH;FMTTYPE=image/jpeg:https://cthouston.org/wp-content/uploads/2019/10/IMG_4599-e1572127420652.jpg
END:VEVENT
BEGIN:VEVENT
DTSTART;TZID=America/Chicago:20250911T190000
DTEND;TZID=America/Chicago:20250911T213000
DTSTAMP:20260422T052057
CREATED:20241121T120512Z
LAST-MODIFIED:20260324T134511Z
UID:10002347-1757617200-1757626200@cthouston.org
SUMMARY:Sutra Study 1 (Every Thursday Evening)
DESCRIPTION:Click here to register
URL:https://cthouston.org/event/sutra-study-1-every-thursday-evening-2-2-2-2/2025-09-11/
LOCATION:Chung Tai Zen Center of Houston\, 12129 Bellaire Blvd\, Houston\, TX\, 77072
CATEGORIES:Classes,Ongoing
ATTACH;FMTTYPE=image/jpeg:https://cthouston.org/wp-content/uploads/2019/10/IMG_4599-e1572127420652.jpg
END:VEVENT
BEGIN:VEVENT
DTSTART;TZID=America/Chicago:20250913T100000
DTEND;TZID=America/Chicago:20250913T120000
DTSTAMP:20260422T052057
CREATED:20240802T190828Z
LAST-MODIFIED:20260324T134542Z
UID:10002866-1757757600-1757764800@cthouston.org
SUMMARY:Meditation Level 1 (Beginner - Every Saturday Morning)
DESCRIPTION:Click here to register
URL:https://cthouston.org/event/meditation-level-1-beginner-every-saturday-morning-2-2/2025-09-13/
LOCATION:Chung Tai Zen Center of Houston\, 12129 Bellaire Blvd\, Houston\, TX\, 77072
CATEGORIES:Classes,Ongoing
ATTACH;FMTTYPE=image/jpeg:https://cthouston.org/wp-content/uploads/2019/10/IMG_4599-e1572127420652.jpg
END:VEVENT
BEGIN:VEVENT
DTSTART;TZID=America/Chicago:20250913T163000
DTEND;TZID=America/Chicago:20250913T183000
DTSTAMP:20260422T052057
CREATED:20250531T020313Z
LAST-MODIFIED:20260324T134616Z
UID:10003800-1757781000-1757788200@cthouston.org
SUMMARY:Children's Meditation (Every Saturday Evening)
DESCRIPTION:Children’s meditation class is for children of age 4 to 12 years old. This class is designed to help students discover their inner wisdom and develop their potential\, positive and moral outlook on life through meditation and Chan stories. The creatively designed curriculum consists of instructions on meditation techniques\, dharma talks\, Buddhist/Chan stories\, mind-developing activities\, group discussions\, and fun crafts. \nSchedule: \n4:30 p.m. Chanting & meditation \n5:00 p.m. Dharma talk \n5:30 p.m. Group activities \n6:00 p.m. Dinner \nClick here to register
URL:https://cthouston.org/event/childrens-meditation-class-saturday-2-2/2025-09-13/
LOCATION:Chung Tai Zen Center of Houston\, 12129 Bellaire Blvd\, Houston\, TX\, 77072
CATEGORIES:Classes,Ongoing
ATTACH;FMTTYPE=image/png:https://cthouston.org/wp-content/uploads/2023/07/ChildrensMeditation.png
END:VEVENT
BEGIN:VEVENT
DTSTART;TZID=America/Chicago:20250913T190000
DTEND;TZID=America/Chicago:20250913T200000
DTSTAMP:20260422T052057
CREATED:20250904T183021Z
LAST-MODIFIED:20251116T232309Z
UID:10008551-1757790000-1757793600@cthouston.org
SUMMARY:Youth's Meditation (Every other Saturday evening)
DESCRIPTION:
URL:https://cthouston.org/event/youths-meditation-class/2025-09-13/
LOCATION:Chung Tai Zen Center of Houston\, 12129 Bellaire Blvd\, Houston\, TX\, 77072
CATEGORIES:Classes,Ongoing
ATTACH;FMTTYPE=image/jpeg:https://cthouston.org/wp-content/uploads/2019/07/BuddhaStatue1-1.jpg
END:VEVENT
BEGIN:VEVENT
DTSTART;TZID=America/Chicago:20250915T193000
DTEND;TZID=America/Chicago:20250915T213000
DTSTAMP:20260422T052057
CREATED:20241224T025503Z
LAST-MODIFIED:20260324T134720Z
UID:10001571-1757964600-1757971800@cthouston.org
SUMMARY:Meditation Level 1 (Beginner - Every Monday Evening)
DESCRIPTION:Click here to register
URL:https://cthouston.org/event/meditation-level-1-beginner-every-monday-evening-2-2-2/2025-09-15/
LOCATION:Chung Tai Zen Center of Houston\, 12129 Bellaire Blvd\, Houston\, TX\, 77072
CATEGORIES:Classes,Ongoing
ATTACH;FMTTYPE=image/jpeg:https://cthouston.org/wp-content/uploads/2019/10/IMG_4599-e1572127420652.jpg
END:VEVENT
BEGIN:VEVENT
DTSTART;TZID=America/Chicago:20250917T193000
DTEND;TZID=America/Chicago:20250917T213000
DTSTAMP:20260422T052057
CREATED:20240802T190013Z
LAST-MODIFIED:20260324T134356Z
UID:10003399-1758137400-1758144600@cthouston.org
SUMMARY:Meditation Level 3 (Advanced - Every Wednesday Evening)
DESCRIPTION:Click here to register
URL:https://cthouston.org/event/meditation-level-2-intermediate-every-wednesday-evening-2/2025-09-17/
LOCATION:Chung Tai Zen Center of Houston\, 12129 Bellaire Blvd\, Houston\, TX\, 77072
CATEGORIES:Classes,Ongoing
ATTACH;FMTTYPE=image/jpeg:https://cthouston.org/wp-content/uploads/2019/10/IMG_4599-e1572127420652.jpg
END:VEVENT
BEGIN:VEVENT
DTSTART;TZID=America/Chicago:20250917T193000
DTEND;TZID=America/Chicago:20250917T213000
DTSTAMP:20260422T052057
CREATED:20240802T190436Z
LAST-MODIFIED:20260324T134437Z
UID:10007495-1758137400-1758144600@cthouston.org
SUMMARY:Meditation Level 2 (Intermediate- Every Wednesday Evening)
DESCRIPTION:Click here to register
URL:https://cthouston.org/event/meditation-level-2-intermediate-2/2025-09-17/
LOCATION:Chung Tai Zen Center of Houston\, 12129 Bellaire Blvd\, Houston\, TX\, 77072
CATEGORIES:Classes,Ongoing
ATTACH;FMTTYPE=image/jpeg:https://cthouston.org/wp-content/uploads/2019/10/IMG_4599-e1572127420652.jpg
END:VEVENT
BEGIN:VEVENT
DTSTART;TZID=America/Chicago:20250918T190000
DTEND;TZID=America/Chicago:20250918T213000
DTSTAMP:20260422T052057
CREATED:20241121T120512Z
LAST-MODIFIED:20260324T134511Z
UID:10002348-1758222000-1758231000@cthouston.org
SUMMARY:Sutra Study 1 (Every Thursday Evening)
DESCRIPTION:Click here to register
URL:https://cthouston.org/event/sutra-study-1-every-thursday-evening-2-2-2-2/2025-09-18/
LOCATION:Chung Tai Zen Center of Houston\, 12129 Bellaire Blvd\, Houston\, TX\, 77072
CATEGORIES:Classes,Ongoing
ATTACH;FMTTYPE=image/jpeg:https://cthouston.org/wp-content/uploads/2019/10/IMG_4599-e1572127420652.jpg
END:VEVENT
BEGIN:VEVENT
DTSTART;TZID=America/Chicago:20250920T100000
DTEND;TZID=America/Chicago:20250920T120000
DTSTAMP:20260422T052057
CREATED:20240802T190828Z
LAST-MODIFIED:20260324T134542Z
UID:10002867-1758362400-1758369600@cthouston.org
SUMMARY:Meditation Level 1 (Beginner - Every Saturday Morning)
DESCRIPTION:Click here to register
URL:https://cthouston.org/event/meditation-level-1-beginner-every-saturday-morning-2-2/2025-09-20/
LOCATION:Chung Tai Zen Center of Houston\, 12129 Bellaire Blvd\, Houston\, TX\, 77072
CATEGORIES:Classes,Ongoing
ATTACH;FMTTYPE=image/jpeg:https://cthouston.org/wp-content/uploads/2019/10/IMG_4599-e1572127420652.jpg
END:VEVENT
BEGIN:VEVENT
DTSTART;TZID=America/Chicago:20250920T163000
DTEND;TZID=America/Chicago:20250920T183000
DTSTAMP:20260422T052057
CREATED:20250531T020313Z
LAST-MODIFIED:20260324T134616Z
UID:10003801-1758385800-1758393000@cthouston.org
SUMMARY:Children's Meditation (Every Saturday Evening)
DESCRIPTION:Children’s meditation class is for children of age 4 to 12 years old. This class is designed to help students discover their inner wisdom and develop their potential\, positive and moral outlook on life through meditation and Chan stories. The creatively designed curriculum consists of instructions on meditation techniques\, dharma talks\, Buddhist/Chan stories\, mind-developing activities\, group discussions\, and fun crafts. \nSchedule: \n4:30 p.m. Chanting & meditation \n5:00 p.m. Dharma talk \n5:30 p.m. Group activities \n6:00 p.m. Dinner \nClick here to register
URL:https://cthouston.org/event/childrens-meditation-class-saturday-2-2/2025-09-20/
LOCATION:Chung Tai Zen Center of Houston\, 12129 Bellaire Blvd\, Houston\, TX\, 77072
CATEGORIES:Classes,Ongoing
ATTACH;FMTTYPE=image/png:https://cthouston.org/wp-content/uploads/2023/07/ChildrensMeditation.png
END:VEVENT
BEGIN:VEVENT
DTSTART;TZID=America/Chicago:20250921T093000
DTEND;TZID=America/Chicago:20250921T153000
DTSTAMP:20260422T052057
CREATED:20250514T025435Z
LAST-MODIFIED:20250514T025435Z
UID:10008009-1758447000-1758468600@cthouston.org
SUMMARY:Guanyin Blessing Ceremony
DESCRIPTION:
URL:https://cthouston.org/event/guanyin-blessing-ceremony-09-25/
LOCATION:Chung Tai Zen Center of Houston\, 12129 Bellaire Blvd\, Houston\, TX\, 77072
CATEGORIES:Ceremonies,FrontPage
ATTACH;FMTTYPE=image/jpeg:https://cthouston.org/wp-content/uploads/2022/11/DSF9701-scaled.jpg
END:VEVENT
BEGIN:VEVENT
DTSTART;TZID=America/Chicago:20250922T193000
DTEND;TZID=America/Chicago:20250922T213000
DTSTAMP:20260422T052057
CREATED:20241224T025503Z
LAST-MODIFIED:20260324T134720Z
UID:10001572-1758569400-1758576600@cthouston.org
SUMMARY:Meditation Level 1 (Beginner - Every Monday Evening)
DESCRIPTION:Click here to register
URL:https://cthouston.org/event/meditation-level-1-beginner-every-monday-evening-2-2-2/2025-09-22/
LOCATION:Chung Tai Zen Center of Houston\, 12129 Bellaire Blvd\, Houston\, TX\, 77072
CATEGORIES:Classes,Ongoing
ATTACH;FMTTYPE=image/jpeg:https://cthouston.org/wp-content/uploads/2019/10/IMG_4599-e1572127420652.jpg
END:VEVENT
BEGIN:VEVENT
DTSTART;TZID=America/Chicago:20250924T193000
DTEND;TZID=America/Chicago:20250924T213000
DTSTAMP:20260422T052058
CREATED:20240802T190013Z
LAST-MODIFIED:20260324T134356Z
UID:10003400-1758742200-1758749400@cthouston.org
SUMMARY:Meditation Level 3 (Advanced - Every Wednesday Evening)
DESCRIPTION:Click here to register
URL:https://cthouston.org/event/meditation-level-2-intermediate-every-wednesday-evening-2/2025-09-24/
LOCATION:Chung Tai Zen Center of Houston\, 12129 Bellaire Blvd\, Houston\, TX\, 77072
CATEGORIES:Classes,Ongoing
ATTACH;FMTTYPE=image/jpeg:https://cthouston.org/wp-content/uploads/2019/10/IMG_4599-e1572127420652.jpg
END:VEVENT
BEGIN:VEVENT
DTSTART;TZID=America/Chicago:20250924T193000
DTEND;TZID=America/Chicago:20250924T213000
DTSTAMP:20260422T052058
CREATED:20240802T190436Z
LAST-MODIFIED:20260324T134437Z
UID:10007496-1758742200-1758749400@cthouston.org
SUMMARY:Meditation Level 2 (Intermediate- Every Wednesday Evening)
DESCRIPTION:Click here to register
URL:https://cthouston.org/event/meditation-level-2-intermediate-2/2025-09-24/
LOCATION:Chung Tai Zen Center of Houston\, 12129 Bellaire Blvd\, Houston\, TX\, 77072
CATEGORIES:Classes,Ongoing
ATTACH;FMTTYPE=image/jpeg:https://cthouston.org/wp-content/uploads/2019/10/IMG_4599-e1572127420652.jpg
END:VEVENT
BEGIN:VEVENT
DTSTART;TZID=America/Chicago:20250925T190000
DTEND;TZID=America/Chicago:20250925T213000
DTSTAMP:20260422T052058
CREATED:20241121T120512Z
LAST-MODIFIED:20260324T134511Z
UID:10002349-1758826800-1758835800@cthouston.org
SUMMARY:Sutra Study 1 (Every Thursday Evening)
DESCRIPTION:Click here to register
URL:https://cthouston.org/event/sutra-study-1-every-thursday-evening-2-2-2-2/2025-09-25/
LOCATION:Chung Tai Zen Center of Houston\, 12129 Bellaire Blvd\, Houston\, TX\, 77072
CATEGORIES:Classes,Ongoing
ATTACH;FMTTYPE=image/jpeg:https://cthouston.org/wp-content/uploads/2019/10/IMG_4599-e1572127420652.jpg
END:VEVENT
BEGIN:VEVENT
DTSTART;TZID=America/Chicago:20250927T100000
DTEND;TZID=America/Chicago:20250927T120000
DTSTAMP:20260422T052058
CREATED:20240802T190828Z
LAST-MODIFIED:20260324T134542Z
UID:10002868-1758967200-1758974400@cthouston.org
SUMMARY:Meditation Level 1 (Beginner - Every Saturday Morning)
DESCRIPTION:Click here to register
URL:https://cthouston.org/event/meditation-level-1-beginner-every-saturday-morning-2-2/2025-09-27/
LOCATION:Chung Tai Zen Center of Houston\, 12129 Bellaire Blvd\, Houston\, TX\, 77072
CATEGORIES:Classes,Ongoing
ATTACH;FMTTYPE=image/jpeg:https://cthouston.org/wp-content/uploads/2019/10/IMG_4599-e1572127420652.jpg
END:VEVENT
BEGIN:VEVENT
DTSTART;TZID=America/Chicago:20250927T163000
DTEND;TZID=America/Chicago:20250927T183000
DTSTAMP:20260422T052058
CREATED:20250531T020313Z
LAST-MODIFIED:20260324T134616Z
UID:10003802-1758990600-1758997800@cthouston.org
SUMMARY:Children's Meditation (Every Saturday Evening)
DESCRIPTION:Children’s meditation class is for children of age 4 to 12 years old. This class is designed to help students discover their inner wisdom and develop their potential\, positive and moral outlook on life through meditation and Chan stories. The creatively designed curriculum consists of instructions on meditation techniques\, dharma talks\, Buddhist/Chan stories\, mind-developing activities\, group discussions\, and fun crafts. \nSchedule: \n4:30 p.m. Chanting & meditation \n5:00 p.m. Dharma talk \n5:30 p.m. Group activities \n6:00 p.m. Dinner \nClick here to register
URL:https://cthouston.org/event/childrens-meditation-class-saturday-2-2/2025-09-27/
LOCATION:Chung Tai Zen Center of Houston\, 12129 Bellaire Blvd\, Houston\, TX\, 77072
CATEGORIES:Classes,Ongoing
ATTACH;FMTTYPE=image/png:https://cthouston.org/wp-content/uploads/2023/07/ChildrensMeditation.png
END:VEVENT
BEGIN:VEVENT
DTSTART;TZID=America/Chicago:20250927T190000
DTEND;TZID=America/Chicago:20250927T200000
DTSTAMP:20260422T052058
CREATED:20250904T183021Z
LAST-MODIFIED:20251116T232309Z
UID:10008552-1758999600-1759003200@cthouston.org
SUMMARY:Youth's Meditation (Every other Saturday evening)
DESCRIPTION:
URL:https://cthouston.org/event/youths-meditation-class/2025-09-27/
LOCATION:Chung Tai Zen Center of Houston\, 12129 Bellaire Blvd\, Houston\, TX\, 77072
CATEGORIES:Classes,Ongoing
ATTACH;FMTTYPE=image/jpeg:https://cthouston.org/wp-content/uploads/2019/07/BuddhaStatue1-1.jpg
END:VEVENT
BEGIN:VEVENT
DTSTART;TZID=America/Chicago:20250928T090000
DTEND;TZID=America/Chicago:20250928T120000
DTSTAMP:20260422T052058
CREATED:20250909T131907Z
LAST-MODIFIED:20250909T131907Z
UID:10008563-1759050000-1759060800@cthouston.org
SUMMARY:September Half-Day Meditation Retreat
DESCRIPTION:
URL:https://cthouston.org/event/half-day-meditation-retreat/
LOCATION:Chung Tai Zen Center of Houston\, 12129 Bellaire Blvd\, Houston\, TX\, 77072
CATEGORIES:FrontPage,Retreats
ATTACH;FMTTYPE=image/jpeg:https://cthouston.org/wp-content/uploads/2019/10/retreat.jpg
END:VEVENT
BEGIN:VEVENT
DTSTART;TZID=America/Chicago:20250929T193000
DTEND;TZID=America/Chicago:20250929T213000
DTSTAMP:20260422T052058
CREATED:20241224T025503Z
LAST-MODIFIED:20260324T134720Z
UID:10001573-1759174200-1759181400@cthouston.org
SUMMARY:Meditation Level 1 (Beginner - Every Monday Evening)
DESCRIPTION:Click here to register
URL:https://cthouston.org/event/meditation-level-1-beginner-every-monday-evening-2-2-2/2025-09-29/
LOCATION:Chung Tai Zen Center of Houston\, 12129 Bellaire Blvd\, Houston\, TX\, 77072
CATEGORIES:Classes,Ongoing
ATTACH;FMTTYPE=image/jpeg:https://cthouston.org/wp-content/uploads/2019/10/IMG_4599-e1572127420652.jpg
END:VEVENT
END:VCALENDAR