BEGIN:VCALENDAR
VERSION:2.0
PRODID:-//Chung Tai Zen||Center of Houston||普德精舍 - ECPv6.15.17.1//NONSGML v1.0//EN
CALSCALE:GREGORIAN
METHOD:PUBLISH
X-WR-CALNAME:Chung Tai Zen||Center of Houston||普德精舍
X-ORIGINAL-URL:https://cthouston.org/?lang=zh-hant
X-WR-CALDESC:Events for Chung Tai Zen||Center of Houston||普德精舍
REFRESH-INTERVAL;VALUE=DURATION:PT1H
X-Robots-Tag:noindex
X-PUBLISHED-TTL:PT1H
BEGIN:VTIMEZONE
TZID:America/Chicago
BEGIN:DAYLIGHT
TZOFFSETFROM:-0600
TZOFFSETTO:-0500
TZNAME:CDT
DTSTART:20240310T080000
END:DAYLIGHT
BEGIN:STANDARD
TZOFFSETFROM:-0500
TZOFFSETTO:-0600
TZNAME:CST
DTSTART:20241103T070000
END:STANDARD
BEGIN:DAYLIGHT
TZOFFSETFROM:-0600
TZOFFSETTO:-0500
TZNAME:CDT
DTSTART:20250309T080000
END:DAYLIGHT
BEGIN:STANDARD
TZOFFSETFROM:-0500
TZOFFSETTO:-0600
TZNAME:CST
DTSTART:20251102T070000
END:STANDARD
BEGIN:DAYLIGHT
TZOFFSETFROM:-0600
TZOFFSETTO:-0500
TZNAME:CDT
DTSTART:20260308T080000
END:DAYLIGHT
BEGIN:STANDARD
TZOFFSETFROM:-0500
TZOFFSETTO:-0600
TZNAME:CST
DTSTART:20261101T070000
END:STANDARD
END:VTIMEZONE
BEGIN:VEVENT
DTSTART;TZID=America/Chicago:20250909T193000
DTEND;TZID=America/Chicago:20250909T210000
DTSTAMP:20260424T111604
CREATED:20250812T132441Z
LAST-MODIFIED:20251117T001242Z
UID:10008294-1757446200-1757451600@cthouston.org
SUMMARY:中文研經班（每週二）
DESCRIPTION:週二晚上\, 7:30-9:00點\, 線上：8:00-9:00點。
URL:https://cthouston.org/event/%e4%b8%ad%e6%96%87%e7%a0%94%e7%b6%93%e7%8f%ad%ef%bc%88%e6%af%8f%e9%80%b1%e4%ba%8c%ef%bc%89-2/2025-09-09/?lang=zh-hant
LOCATION:TX
CATEGORIES:禪修課,進行中
ATTACH;FMTTYPE=image/jpeg:https://cthouston.org/wp-content/uploads/2019/10/IMG_4599.jpg
END:VEVENT
BEGIN:VEVENT
DTSTART;TZID=America/Chicago:20250911T100000
DTEND;TZID=America/Chicago:20250911T120000
DTSTAMP:20260424T111604
CREATED:20241121T124754Z
LAST-MODIFIED:20260224T205740Z
UID:10006080-1757584800-1757592000@cthouston.org
SUMMARY:中文研經班（每週四）
DESCRIPTION:每週四\, 早上10:00-12:00點。
URL:https://cthouston.org/event/%e4%b8%ad%e6%96%87%e7%a0%94%e7%b6%93%e7%8f%ad%ef%bc%88%e6%af%8f%e9%80%b1%e5%9b%9b%ef%bc%89-2/2025-09-11/?lang=zh-hant
LOCATION:TX
CATEGORIES:禪修課,進行中
ATTACH;FMTTYPE=image/jpeg:https://cthouston.org/wp-content/uploads/2019/10/IMG_4599.jpg
END:VEVENT
BEGIN:VEVENT
DTSTART;TZID=America/Chicago:20250912T193000
DTEND;TZID=America/Chicago:20250912T213000
DTSTAMP:20260424T111604
CREATED:20241121T124044Z
LAST-MODIFIED:20260224T205550Z
UID:10005560-1757705400-1757712600@cthouston.org
SUMMARY:中文初級禪修班（每週五）
DESCRIPTION:週五晚上\, 7:30-9:00點\, 線上：8:00-9:00點。\n請點登記按鈕
URL:https://cthouston.org/event/%e4%b8%ad%e6%96%87%e5%88%9d%e7%b4%9a%e7%a6%aa%e4%bf%ae%e7%8f%ad%ef%bc%88%e6%af%8f%e9%80%b1%e4%ba%94%ef%bc%89-3/2025-09-12/?lang=zh-hant
LOCATION:TX
CATEGORIES:禪修課,進行中
ATTACH;FMTTYPE=image/jpeg:https://cthouston.org/wp-content/uploads/2019/10/IMG_4599.jpg
END:VEVENT
BEGIN:VEVENT
DTSTART;TZID=America/Chicago:20250912T193000
DTEND;TZID=America/Chicago:20250912T213000
DTSTAMP:20260424T111604
CREATED:20250302T132944Z
LAST-MODIFIED:20260224T205037Z
UID:10007765-1757705400-1757712600@cthouston.org
SUMMARY:中文中級禪修班（每週五）
DESCRIPTION:週五晚上\, 7:30-9:00點\, 線上：8:00-9:00點。
URL:https://cthouston.org/event/%e4%b8%ad%e6%96%87%e4%b8%ad%e7%b4%9a%e7%a6%aa%e4%bf%ae%e7%8f%ad%ef%bc%88%e6%af%8f%e9%80%b1%e4%ba%94%ef%bc%89/2025-09-12/?lang=zh-hant
LOCATION:TX
CATEGORIES:禪修課,進行中
ATTACH;FMTTYPE=image/jpeg:https://cthouston.org/wp-content/uploads/2019/10/IMG_4599.jpg
END:VEVENT
BEGIN:VEVENT
DTSTART;TZID=America/Chicago:20250913T140000
DTEND;TZID=America/Chicago:20250913T160000
DTSTAMP:20260424T111604
CREATED:20241121T123429Z
LAST-MODIFIED:20260224T205336Z
UID:10005819-1757772000-1757779200@cthouston.org
SUMMARY:誦經共修（每週六）
DESCRIPTION:每週六下午\, 2:00-4:00點。
URL:https://cthouston.org/event/%e8%aa%a6%e7%b6%93%e5%85%b1%e4%bf%ae%ef%bc%88%e6%af%8f%e9%80%b1%e5%85%ad%ef%bc%89-3/2025-09-13/?lang=zh-hant
LOCATION:TX
CATEGORIES:禪修課,進行中
ATTACH;FMTTYPE=image/jpeg:https://cthouston.org/wp-content/uploads/2022/11/DSF9701-scaled.jpg
END:VEVENT
BEGIN:VEVENT
DTSTART;TZID=America/Chicago:20250913T163000
DTEND;TZID=America/Chicago:20250913T180000
DTSTAMP:20260424T111604
CREATED:20241224T163758Z
LAST-MODIFIED:20251117T001013Z
UID:10006628-1757781000-1757786400@cthouston.org
SUMMARY:英文親子禪修班（每週六）
DESCRIPTION:親子禪修班為 4-11 歲兒童，家長歡迎一同參加；每週六下午4:30 點至6點\n宗旨：以禪修靜坐培養定力，讓孩子們認識自己的心性，提升專注的能力和體認生命的成長。\n課程內容：靜坐、佛典故事、遊戲活動、唱誦、讀經、分組討論、影片教學 活動等。 \n登記表格請按此
URL:https://cthouston.org/event/%e8%8b%b1%e6%96%87%e8%a6%aa%e5%ad%90%e7%a6%aa%e4%bf%ae%e7%8f%ad/2025-09-13/?lang=zh-hant
LOCATION:Chung Tai Zen Center of Houston\, 12129 Bellaire Blvd\, Houston\, TX\, 77072
CATEGORIES:禪修課,進行中
ATTACH;FMTTYPE=image/png:https://cthouston.org/wp-content/uploads/2023/07/ChildrensMeditation.png
END:VEVENT
BEGIN:VEVENT
DTSTART;TZID=America/Chicago:20250913T190000
DTEND;TZID=America/Chicago:20250913T200000
DTSTAMP:20260424T111604
CREATED:20250911T121328Z
LAST-MODIFIED:20250911T121328Z
UID:10008571-1757790000-1757793600@cthouston.org
SUMMARY:青年禪修班（隔週六晚上）
DESCRIPTION:
URL:https://cthouston.org/event/%e9%9d%92%e5%b9%b4%e7%a6%aa%e4%bf%ae%e7%8f%ad%ef%bc%88%e9%9a%94%e9%80%b1%e5%85%ad%e6%99%9a%e4%b8%8a%ef%bc%89/2025-09-13/?lang=zh-hant
LOCATION:Chung Tai Zen Center of Houston\, 12129 Bellaire Blvd\, Houston\, TX\, 77072
CATEGORIES:禪修課,進行中
ATTACH;FMTTYPE=image/jpeg:https://cthouston.org/wp-content/uploads/2019/07/BuddhaStatue1-1.jpg
END:VEVENT
BEGIN:VEVENT
DTSTART;TZID=America/Chicago:20250916T193000
DTEND;TZID=America/Chicago:20250916T210000
DTSTAMP:20260424T111604
CREATED:20250812T132441Z
LAST-MODIFIED:20251117T001242Z
UID:10008295-1758051000-1758056400@cthouston.org
SUMMARY:中文研經班（每週二）
DESCRIPTION:週二晚上\, 7:30-9:00點\, 線上：8:00-9:00點。
URL:https://cthouston.org/event/%e4%b8%ad%e6%96%87%e7%a0%94%e7%b6%93%e7%8f%ad%ef%bc%88%e6%af%8f%e9%80%b1%e4%ba%8c%ef%bc%89-2/2025-09-16/?lang=zh-hant
LOCATION:TX
CATEGORIES:禪修課,進行中
ATTACH;FMTTYPE=image/jpeg:https://cthouston.org/wp-content/uploads/2019/10/IMG_4599.jpg
END:VEVENT
BEGIN:VEVENT
DTSTART;TZID=America/Chicago:20250918T100000
DTEND;TZID=America/Chicago:20250918T120000
DTSTAMP:20260424T111604
CREATED:20241121T124754Z
LAST-MODIFIED:20260224T205740Z
UID:10006081-1758189600-1758196800@cthouston.org
SUMMARY:中文研經班（每週四）
DESCRIPTION:每週四\, 早上10:00-12:00點。
URL:https://cthouston.org/event/%e4%b8%ad%e6%96%87%e7%a0%94%e7%b6%93%e7%8f%ad%ef%bc%88%e6%af%8f%e9%80%b1%e5%9b%9b%ef%bc%89-2/2025-09-18/?lang=zh-hant
LOCATION:TX
CATEGORIES:禪修課,進行中
ATTACH;FMTTYPE=image/jpeg:https://cthouston.org/wp-content/uploads/2019/10/IMG_4599.jpg
END:VEVENT
BEGIN:VEVENT
DTSTART;TZID=America/Chicago:20250919T193000
DTEND;TZID=America/Chicago:20250919T213000
DTSTAMP:20260424T111604
CREATED:20241121T124044Z
LAST-MODIFIED:20260224T205550Z
UID:10005561-1758310200-1758317400@cthouston.org
SUMMARY:中文初級禪修班（每週五）
DESCRIPTION:週五晚上\, 7:30-9:00點\, 線上：8:00-9:00點。\n請點登記按鈕
URL:https://cthouston.org/event/%e4%b8%ad%e6%96%87%e5%88%9d%e7%b4%9a%e7%a6%aa%e4%bf%ae%e7%8f%ad%ef%bc%88%e6%af%8f%e9%80%b1%e4%ba%94%ef%bc%89-3/2025-09-19/?lang=zh-hant
LOCATION:TX
CATEGORIES:禪修課,進行中
ATTACH;FMTTYPE=image/jpeg:https://cthouston.org/wp-content/uploads/2019/10/IMG_4599.jpg
END:VEVENT
BEGIN:VEVENT
DTSTART;TZID=America/Chicago:20250919T193000
DTEND;TZID=America/Chicago:20250919T213000
DTSTAMP:20260424T111604
CREATED:20250302T132944Z
LAST-MODIFIED:20260224T205037Z
UID:10007766-1758310200-1758317400@cthouston.org
SUMMARY:中文中級禪修班（每週五）
DESCRIPTION:週五晚上\, 7:30-9:00點\, 線上：8:00-9:00點。
URL:https://cthouston.org/event/%e4%b8%ad%e6%96%87%e4%b8%ad%e7%b4%9a%e7%a6%aa%e4%bf%ae%e7%8f%ad%ef%bc%88%e6%af%8f%e9%80%b1%e4%ba%94%ef%bc%89/2025-09-19/?lang=zh-hant
LOCATION:TX
CATEGORIES:禪修課,進行中
ATTACH;FMTTYPE=image/jpeg:https://cthouston.org/wp-content/uploads/2019/10/IMG_4599.jpg
END:VEVENT
BEGIN:VEVENT
DTSTART;TZID=America/Chicago:20250920T140000
DTEND;TZID=America/Chicago:20250920T160000
DTSTAMP:20260424T111604
CREATED:20241121T123429Z
LAST-MODIFIED:20260224T205336Z
UID:10005820-1758376800-1758384000@cthouston.org
SUMMARY:誦經共修（每週六）
DESCRIPTION:每週六下午\, 2:00-4:00點。
URL:https://cthouston.org/event/%e8%aa%a6%e7%b6%93%e5%85%b1%e4%bf%ae%ef%bc%88%e6%af%8f%e9%80%b1%e5%85%ad%ef%bc%89-3/2025-09-20/?lang=zh-hant
LOCATION:TX
CATEGORIES:禪修課,進行中
ATTACH;FMTTYPE=image/jpeg:https://cthouston.org/wp-content/uploads/2022/11/DSF9701-scaled.jpg
END:VEVENT
BEGIN:VEVENT
DTSTART;TZID=America/Chicago:20250920T163000
DTEND;TZID=America/Chicago:20250920T180000
DTSTAMP:20260424T111604
CREATED:20241224T163758Z
LAST-MODIFIED:20251117T001013Z
UID:10006629-1758385800-1758391200@cthouston.org
SUMMARY:英文親子禪修班（每週六）
DESCRIPTION:親子禪修班為 4-11 歲兒童，家長歡迎一同參加；每週六下午4:30 點至6點\n宗旨：以禪修靜坐培養定力，讓孩子們認識自己的心性，提升專注的能力和體認生命的成長。\n課程內容：靜坐、佛典故事、遊戲活動、唱誦、讀經、分組討論、影片教學 活動等。 \n登記表格請按此
URL:https://cthouston.org/event/%e8%8b%b1%e6%96%87%e8%a6%aa%e5%ad%90%e7%a6%aa%e4%bf%ae%e7%8f%ad/2025-09-20/?lang=zh-hant
LOCATION:Chung Tai Zen Center of Houston\, 12129 Bellaire Blvd\, Houston\, TX\, 77072
CATEGORIES:禪修課,進行中
ATTACH;FMTTYPE=image/png:https://cthouston.org/wp-content/uploads/2023/07/ChildrensMeditation.png
END:VEVENT
BEGIN:VEVENT
DTSTART;TZID=America/Chicago:20250921T093000
DTEND;TZID=America/Chicago:20250921T153000
DTSTAMP:20260424T111604
CREATED:20250516T030451Z
LAST-MODIFIED:20250516T030451Z
UID:10008016-1758447000-1758468600@cthouston.org
SUMMARY:觀音祈福法會
DESCRIPTION:
URL:https://cthouston.org/event/%e8%a7%80%e9%9f%b3%e7%a5%88%e7%a6%8f%e6%b3%95%e6%9c%83/?lang=zh-hant
LOCATION:Chung Tai Zen Center of Houston\, 12129 Bellaire Blvd\, Houston\, TX\, 77072
CATEGORIES:法會,首頁
ATTACH;FMTTYPE=image/jpeg:https://cthouston.org/wp-content/uploads/2022/11/DSF9701-scaled.jpg
END:VEVENT
BEGIN:VEVENT
DTSTART;TZID=America/Chicago:20250923T193000
DTEND;TZID=America/Chicago:20250923T210000
DTSTAMP:20260424T111604
CREATED:20250812T132441Z
LAST-MODIFIED:20251117T001242Z
UID:10008296-1758655800-1758661200@cthouston.org
SUMMARY:中文研經班（每週二）
DESCRIPTION:週二晚上\, 7:30-9:00點\, 線上：8:00-9:00點。
URL:https://cthouston.org/event/%e4%b8%ad%e6%96%87%e7%a0%94%e7%b6%93%e7%8f%ad%ef%bc%88%e6%af%8f%e9%80%b1%e4%ba%8c%ef%bc%89-2/2025-09-23/?lang=zh-hant
LOCATION:TX
CATEGORIES:禪修課,進行中
ATTACH;FMTTYPE=image/jpeg:https://cthouston.org/wp-content/uploads/2019/10/IMG_4599.jpg
END:VEVENT
BEGIN:VEVENT
DTSTART;TZID=America/Chicago:20250925T100000
DTEND;TZID=America/Chicago:20250925T120000
DTSTAMP:20260424T111604
CREATED:20241121T124754Z
LAST-MODIFIED:20260224T205740Z
UID:10006082-1758794400-1758801600@cthouston.org
SUMMARY:中文研經班（每週四）
DESCRIPTION:每週四\, 早上10:00-12:00點。
URL:https://cthouston.org/event/%e4%b8%ad%e6%96%87%e7%a0%94%e7%b6%93%e7%8f%ad%ef%bc%88%e6%af%8f%e9%80%b1%e5%9b%9b%ef%bc%89-2/2025-09-25/?lang=zh-hant
LOCATION:TX
CATEGORIES:禪修課,進行中
ATTACH;FMTTYPE=image/jpeg:https://cthouston.org/wp-content/uploads/2019/10/IMG_4599.jpg
END:VEVENT
BEGIN:VEVENT
DTSTART;TZID=America/Chicago:20250926T193000
DTEND;TZID=America/Chicago:20250926T213000
DTSTAMP:20260424T111604
CREATED:20241121T124044Z
LAST-MODIFIED:20260224T205550Z
UID:10005562-1758915000-1758922200@cthouston.org
SUMMARY:中文初級禪修班（每週五）
DESCRIPTION:週五晚上\, 7:30-9:00點\, 線上：8:00-9:00點。\n請點登記按鈕
URL:https://cthouston.org/event/%e4%b8%ad%e6%96%87%e5%88%9d%e7%b4%9a%e7%a6%aa%e4%bf%ae%e7%8f%ad%ef%bc%88%e6%af%8f%e9%80%b1%e4%ba%94%ef%bc%89-3/2025-09-26/?lang=zh-hant
LOCATION:TX
CATEGORIES:禪修課,進行中
ATTACH;FMTTYPE=image/jpeg:https://cthouston.org/wp-content/uploads/2019/10/IMG_4599.jpg
END:VEVENT
BEGIN:VEVENT
DTSTART;TZID=America/Chicago:20250926T193000
DTEND;TZID=America/Chicago:20250926T213000
DTSTAMP:20260424T111604
CREATED:20250302T132944Z
LAST-MODIFIED:20260224T205037Z
UID:10007767-1758915000-1758922200@cthouston.org
SUMMARY:中文中級禪修班（每週五）
DESCRIPTION:週五晚上\, 7:30-9:00點\, 線上：8:00-9:00點。
URL:https://cthouston.org/event/%e4%b8%ad%e6%96%87%e4%b8%ad%e7%b4%9a%e7%a6%aa%e4%bf%ae%e7%8f%ad%ef%bc%88%e6%af%8f%e9%80%b1%e4%ba%94%ef%bc%89/2025-09-26/?lang=zh-hant
LOCATION:TX
CATEGORIES:禪修課,進行中
ATTACH;FMTTYPE=image/jpeg:https://cthouston.org/wp-content/uploads/2019/10/IMG_4599.jpg
END:VEVENT
BEGIN:VEVENT
DTSTART;TZID=America/Chicago:20250927T140000
DTEND;TZID=America/Chicago:20250927T160000
DTSTAMP:20260424T111604
CREATED:20241121T123429Z
LAST-MODIFIED:20260224T205336Z
UID:10005821-1758981600-1758988800@cthouston.org
SUMMARY:誦經共修（每週六）
DESCRIPTION:每週六下午\, 2:00-4:00點。
URL:https://cthouston.org/event/%e8%aa%a6%e7%b6%93%e5%85%b1%e4%bf%ae%ef%bc%88%e6%af%8f%e9%80%b1%e5%85%ad%ef%bc%89-3/2025-09-27/?lang=zh-hant
LOCATION:TX
CATEGORIES:禪修課,進行中
ATTACH;FMTTYPE=image/jpeg:https://cthouston.org/wp-content/uploads/2022/11/DSF9701-scaled.jpg
END:VEVENT
BEGIN:VEVENT
DTSTART;TZID=America/Chicago:20250927T163000
DTEND;TZID=America/Chicago:20250927T180000
DTSTAMP:20260424T111604
CREATED:20241224T163758Z
LAST-MODIFIED:20251117T001013Z
UID:10006630-1758990600-1758996000@cthouston.org
SUMMARY:英文親子禪修班（每週六）
DESCRIPTION:親子禪修班為 4-11 歲兒童，家長歡迎一同參加；每週六下午4:30 點至6點\n宗旨：以禪修靜坐培養定力，讓孩子們認識自己的心性，提升專注的能力和體認生命的成長。\n課程內容：靜坐、佛典故事、遊戲活動、唱誦、讀經、分組討論、影片教學 活動等。 \n登記表格請按此
URL:https://cthouston.org/event/%e8%8b%b1%e6%96%87%e8%a6%aa%e5%ad%90%e7%a6%aa%e4%bf%ae%e7%8f%ad/2025-09-27/?lang=zh-hant
LOCATION:Chung Tai Zen Center of Houston\, 12129 Bellaire Blvd\, Houston\, TX\, 77072
CATEGORIES:禪修課,進行中
ATTACH;FMTTYPE=image/png:https://cthouston.org/wp-content/uploads/2023/07/ChildrensMeditation.png
END:VEVENT
BEGIN:VEVENT
DTSTART;TZID=America/Chicago:20250927T190000
DTEND;TZID=America/Chicago:20250927T200000
DTSTAMP:20260424T111604
CREATED:20250911T121328Z
LAST-MODIFIED:20250911T121328Z
UID:10008572-1758999600-1759003200@cthouston.org
SUMMARY:青年禪修班（隔週六晚上）
DESCRIPTION:
URL:https://cthouston.org/event/%e9%9d%92%e5%b9%b4%e7%a6%aa%e4%bf%ae%e7%8f%ad%ef%bc%88%e9%9a%94%e9%80%b1%e5%85%ad%e6%99%9a%e4%b8%8a%ef%bc%89/2025-09-27/?lang=zh-hant
LOCATION:Chung Tai Zen Center of Houston\, 12129 Bellaire Blvd\, Houston\, TX\, 77072
CATEGORIES:禪修課,進行中
ATTACH;FMTTYPE=image/jpeg:https://cthouston.org/wp-content/uploads/2019/07/BuddhaStatue1-1.jpg
END:VEVENT
BEGIN:VEVENT
DTSTART;TZID=America/Chicago:20250928T090000
DTEND;TZID=America/Chicago:20250928T120000
DTSTAMP:20260424T111604
CREATED:20250911T121208Z
LAST-MODIFIED:20251014T005945Z
UID:10008569-1759050000-1759060800@cthouston.org
SUMMARY:九月半日禪
DESCRIPTION:
URL:https://cthouston.org/event/9%e6%9c%88%e5%8d%8a%e6%97%a5%e7%a6%aa-2/?lang=zh-hant
LOCATION:Chung Tai Zen Center of Houston\, 12129 Bellaire Blvd\, Houston\, TX\, 77072
CATEGORIES:禪,首頁
ATTACH;FMTTYPE=image/jpeg:https://cthouston.org/wp-content/uploads/2019/10/retreat.jpg
END:VEVENT
BEGIN:VEVENT
DTSTART;TZID=America/Chicago:20250930T193000
DTEND;TZID=America/Chicago:20250930T210000
DTSTAMP:20260424T111604
CREATED:20250812T132441Z
LAST-MODIFIED:20251117T001242Z
UID:10008297-1759260600-1759266000@cthouston.org
SUMMARY:中文研經班（每週二）
DESCRIPTION:週二晚上\, 7:30-9:00點\, 線上：8:00-9:00點。
URL:https://cthouston.org/event/%e4%b8%ad%e6%96%87%e7%a0%94%e7%b6%93%e7%8f%ad%ef%bc%88%e6%af%8f%e9%80%b1%e4%ba%8c%ef%bc%89-2/2025-09-30/?lang=zh-hant
LOCATION:TX
CATEGORIES:禪修課,進行中
ATTACH;FMTTYPE=image/jpeg:https://cthouston.org/wp-content/uploads/2019/10/IMG_4599.jpg
END:VEVENT
END:VCALENDAR