BEGIN:VCALENDAR
VERSION:2.0
PRODID:-//Chung Tai Zen||Center of Houston||普德精舍 - ECPv6.15.17.1//NONSGML v1.0//EN
CALSCALE:GREGORIAN
METHOD:PUBLISH
X-WR-CALNAME:Chung Tai Zen||Center of Houston||普德精舍
X-ORIGINAL-URL:https://cthouston.org
X-WR-CALDESC:Events for Chung Tai Zen||Center of Houston||普德精舍
REFRESH-INTERVAL;VALUE=DURATION:PT1H
X-Robots-Tag:noindex
X-PUBLISHED-TTL:PT1H
BEGIN:VTIMEZONE
TZID:America/Chicago
BEGIN:DAYLIGHT
TZOFFSETFROM:-0600
TZOFFSETTO:-0500
TZNAME:CDT
DTSTART:20240310T080000
END:DAYLIGHT
BEGIN:STANDARD
TZOFFSETFROM:-0500
TZOFFSETTO:-0600
TZNAME:CST
DTSTART:20241103T070000
END:STANDARD
BEGIN:DAYLIGHT
TZOFFSETFROM:-0600
TZOFFSETTO:-0500
TZNAME:CDT
DTSTART:20250309T080000
END:DAYLIGHT
BEGIN:STANDARD
TZOFFSETFROM:-0500
TZOFFSETTO:-0600
TZNAME:CST
DTSTART:20251102T070000
END:STANDARD
BEGIN:DAYLIGHT
TZOFFSETFROM:-0600
TZOFFSETTO:-0500
TZNAME:CDT
DTSTART:20260308T080000
END:DAYLIGHT
BEGIN:STANDARD
TZOFFSETFROM:-0500
TZOFFSETTO:-0600
TZNAME:CST
DTSTART:20261101T070000
END:STANDARD
END:VTIMEZONE
BEGIN:VEVENT
DTSTART;TZID=America/Chicago:20250802T100000
DTEND;TZID=America/Chicago:20250802T120000
DTSTAMP:20260422T164509
CREATED:20240802T190828Z
LAST-MODIFIED:20260324T134542Z
UID:10002860-1754128800-1754136000@cthouston.org
SUMMARY:Meditation Level 1 (Beginner - Every Saturday Morning)
DESCRIPTION:Click here to register
URL:https://cthouston.org/event/meditation-level-1-beginner-every-saturday-morning-2-2/2025-08-02/
LOCATION:Chung Tai Zen Center of Houston\, 12129 Bellaire Blvd\, Houston\, TX\, 77072
CATEGORIES:Classes,Ongoing
ATTACH;FMTTYPE=image/jpeg:https://cthouston.org/wp-content/uploads/2019/10/IMG_4599-e1572127420652.jpg
END:VEVENT
BEGIN:VEVENT
DTSTART;TZID=America/Chicago:20250802T163000
DTEND;TZID=America/Chicago:20250802T183000
DTSTAMP:20260422T164509
CREATED:20250531T020313Z
LAST-MODIFIED:20260324T134616Z
UID:10003794-1754152200-1754159400@cthouston.org
SUMMARY:Children's Meditation (Every Saturday Evening)
DESCRIPTION:Children’s meditation class is for children of age 4 to 12 years old. This class is designed to help students discover their inner wisdom and develop their potential\, positive and moral outlook on life through meditation and Chan stories. The creatively designed curriculum consists of instructions on meditation techniques\, dharma talks\, Buddhist/Chan stories\, mind-developing activities\, group discussions\, and fun crafts. \nSchedule: \n4:30 p.m. Chanting & meditation \n5:00 p.m. Dharma talk \n5:30 p.m. Group activities \n6:00 p.m. Dinner \nClick here to register
URL:https://cthouston.org/event/childrens-meditation-class-saturday-2-2/2025-08-02/
LOCATION:Chung Tai Zen Center of Houston\, 12129 Bellaire Blvd\, Houston\, TX\, 77072
CATEGORIES:Classes,Ongoing
ATTACH;FMTTYPE=image/png:https://cthouston.org/wp-content/uploads/2023/07/ChildrensMeditation.png
END:VEVENT
BEGIN:VEVENT
DTSTART;TZID=America/Chicago:20250803T093000
DTEND;TZID=America/Chicago:20250803T153000
DTSTAMP:20260422T164509
CREATED:20250514T025110Z
LAST-MODIFIED:20250514T025110Z
UID:10008007-1754213400-1754235000@cthouston.org
SUMMARY:Medicine Buddha Blessing Ceremony
DESCRIPTION:
URL:https://cthouston.org/event/medicine-buddha-blessing-ceremony-08-25/
LOCATION:Chung Tai Zen Center of Houston\, 12129 Bellaire Blvd\, Houston\, TX\, 77072
CATEGORIES:Ceremonies,FrontPage
ATTACH;FMTTYPE=image/jpeg:https://cthouston.org/wp-content/uploads/2022/11/DSF9701-scaled.jpg
END:VEVENT
BEGIN:VEVENT
DTSTART;TZID=America/Chicago:20250803T093000
DTEND;TZID=America/Chicago:20250803T153000
DTSTAMP:20260422T164509
CREATED:20250516T030522Z
LAST-MODIFIED:20250516T030522Z
UID:10008017-1754213400-1754235000@cthouston.org
SUMMARY:藥師祈福法會
DESCRIPTION:
URL:https://cthouston.org/event/%e8%97%a5%e5%b8%ab%e7%a5%88%e7%a6%8f%e6%b3%95%e6%9c%83-3/
LOCATION:Chung Tai Zen Center of Houston\, 12129 Bellaire Blvd\, Houston\, TX\, 77072
END:VEVENT
BEGIN:VEVENT
DTSTART;TZID=America/Chicago:20250804T193000
DTEND;TZID=America/Chicago:20250804T213000
DTSTAMP:20260422T164509
CREATED:20241224T025503Z
LAST-MODIFIED:20260324T134720Z
UID:10001565-1754335800-1754343000@cthouston.org
SUMMARY:Meditation Level 1 (Beginner - Every Monday Evening)
DESCRIPTION:Click here to register
URL:https://cthouston.org/event/meditation-level-1-beginner-every-monday-evening-2-2-2/2025-08-04/
LOCATION:Chung Tai Zen Center of Houston\, 12129 Bellaire Blvd\, Houston\, TX\, 77072
CATEGORIES:Classes,Ongoing
ATTACH;FMTTYPE=image/jpeg:https://cthouston.org/wp-content/uploads/2019/10/IMG_4599-e1572127420652.jpg
END:VEVENT
BEGIN:VEVENT
DTSTART;TZID=America/Chicago:20250806T193000
DTEND;TZID=America/Chicago:20250806T213000
DTSTAMP:20260422T164509
CREATED:20240802T190013Z
LAST-MODIFIED:20260324T134356Z
UID:10003393-1754508600-1754515800@cthouston.org
SUMMARY:Meditation Level 3 (Advanced - Every Wednesday Evening)
DESCRIPTION:Click here to register
URL:https://cthouston.org/event/meditation-level-2-intermediate-every-wednesday-evening-2/2025-08-06/
LOCATION:Chung Tai Zen Center of Houston\, 12129 Bellaire Blvd\, Houston\, TX\, 77072
CATEGORIES:Classes,Ongoing
ATTACH;FMTTYPE=image/jpeg:https://cthouston.org/wp-content/uploads/2019/10/IMG_4599-e1572127420652.jpg
END:VEVENT
BEGIN:VEVENT
DTSTART;TZID=America/Chicago:20250806T193000
DTEND;TZID=America/Chicago:20250806T213000
DTSTAMP:20260422T164509
CREATED:20240802T190436Z
LAST-MODIFIED:20260324T134437Z
UID:10007489-1754508600-1754515800@cthouston.org
SUMMARY:Meditation Level 2 (Intermediate- Every Wednesday Evening)
DESCRIPTION:Click here to register
URL:https://cthouston.org/event/meditation-level-2-intermediate-2/2025-08-06/
LOCATION:Chung Tai Zen Center of Houston\, 12129 Bellaire Blvd\, Houston\, TX\, 77072
CATEGORIES:Classes,Ongoing
ATTACH;FMTTYPE=image/jpeg:https://cthouston.org/wp-content/uploads/2019/10/IMG_4599-e1572127420652.jpg
END:VEVENT
BEGIN:VEVENT
DTSTART;TZID=America/Chicago:20250807T190000
DTEND;TZID=America/Chicago:20250807T213000
DTSTAMP:20260422T164509
CREATED:20241121T120512Z
LAST-MODIFIED:20260324T134511Z
UID:10002342-1754593200-1754602200@cthouston.org
SUMMARY:Sutra Study 1 (Every Thursday Evening)
DESCRIPTION:Click here to register
URL:https://cthouston.org/event/sutra-study-1-every-thursday-evening-2-2-2-2/2025-08-07/
LOCATION:Chung Tai Zen Center of Houston\, 12129 Bellaire Blvd\, Houston\, TX\, 77072
CATEGORIES:Classes,Ongoing
ATTACH;FMTTYPE=image/jpeg:https://cthouston.org/wp-content/uploads/2019/10/IMG_4599-e1572127420652.jpg
END:VEVENT
BEGIN:VEVENT
DTSTART;TZID=America/Chicago:20250809T100000
DTEND;TZID=America/Chicago:20250809T120000
DTSTAMP:20260422T164509
CREATED:20240802T190828Z
LAST-MODIFIED:20260324T134542Z
UID:10002861-1754733600-1754740800@cthouston.org
SUMMARY:Meditation Level 1 (Beginner - Every Saturday Morning)
DESCRIPTION:Click here to register
URL:https://cthouston.org/event/meditation-level-1-beginner-every-saturday-morning-2-2/2025-08-09/
LOCATION:Chung Tai Zen Center of Houston\, 12129 Bellaire Blvd\, Houston\, TX\, 77072
CATEGORIES:Classes,Ongoing
ATTACH;FMTTYPE=image/jpeg:https://cthouston.org/wp-content/uploads/2019/10/IMG_4599-e1572127420652.jpg
END:VEVENT
BEGIN:VEVENT
DTSTART;TZID=America/Chicago:20250809T163000
DTEND;TZID=America/Chicago:20250809T183000
DTSTAMP:20260422T164509
CREATED:20250531T020313Z
LAST-MODIFIED:20260324T134616Z
UID:10003795-1754757000-1754764200@cthouston.org
SUMMARY:Children's Meditation (Every Saturday Evening)
DESCRIPTION:Children’s meditation class is for children of age 4 to 12 years old. This class is designed to help students discover their inner wisdom and develop their potential\, positive and moral outlook on life through meditation and Chan stories. The creatively designed curriculum consists of instructions on meditation techniques\, dharma talks\, Buddhist/Chan stories\, mind-developing activities\, group discussions\, and fun crafts. \nSchedule: \n4:30 p.m. Chanting & meditation \n5:00 p.m. Dharma talk \n5:30 p.m. Group activities \n6:00 p.m. Dinner \nClick here to register
URL:https://cthouston.org/event/childrens-meditation-class-saturday-2-2/2025-08-09/
LOCATION:Chung Tai Zen Center of Houston\, 12129 Bellaire Blvd\, Houston\, TX\, 77072
CATEGORIES:Classes,Ongoing
ATTACH;FMTTYPE=image/png:https://cthouston.org/wp-content/uploads/2023/07/ChildrensMeditation.png
END:VEVENT
BEGIN:VEVENT
DTSTART;TZID=America/Chicago:20250811T193000
DTEND;TZID=America/Chicago:20250811T213000
DTSTAMP:20260422T164509
CREATED:20241224T025503Z
LAST-MODIFIED:20260324T134720Z
UID:10001566-1754940600-1754947800@cthouston.org
SUMMARY:Meditation Level 1 (Beginner - Every Monday Evening)
DESCRIPTION:Click here to register
URL:https://cthouston.org/event/meditation-level-1-beginner-every-monday-evening-2-2-2/2025-08-11/
LOCATION:Chung Tai Zen Center of Houston\, 12129 Bellaire Blvd\, Houston\, TX\, 77072
CATEGORIES:Classes,Ongoing
ATTACH;FMTTYPE=image/jpeg:https://cthouston.org/wp-content/uploads/2019/10/IMG_4599-e1572127420652.jpg
END:VEVENT
BEGIN:VEVENT
DTSTART;TZID=America/Chicago:20250813T193000
DTEND;TZID=America/Chicago:20250813T213000
DTSTAMP:20260422T164509
CREATED:20240802T190013Z
LAST-MODIFIED:20260324T134356Z
UID:10003394-1755113400-1755120600@cthouston.org
SUMMARY:Meditation Level 3 (Advanced - Every Wednesday Evening)
DESCRIPTION:Click here to register
URL:https://cthouston.org/event/meditation-level-2-intermediate-every-wednesday-evening-2/2025-08-13/
LOCATION:Chung Tai Zen Center of Houston\, 12129 Bellaire Blvd\, Houston\, TX\, 77072
CATEGORIES:Classes,Ongoing
ATTACH;FMTTYPE=image/jpeg:https://cthouston.org/wp-content/uploads/2019/10/IMG_4599-e1572127420652.jpg
END:VEVENT
BEGIN:VEVENT
DTSTART;TZID=America/Chicago:20250813T193000
DTEND;TZID=America/Chicago:20250813T213000
DTSTAMP:20260422T164509
CREATED:20240802T190436Z
LAST-MODIFIED:20260324T134437Z
UID:10007490-1755113400-1755120600@cthouston.org
SUMMARY:Meditation Level 2 (Intermediate- Every Wednesday Evening)
DESCRIPTION:Click here to register
URL:https://cthouston.org/event/meditation-level-2-intermediate-2/2025-08-13/
LOCATION:Chung Tai Zen Center of Houston\, 12129 Bellaire Blvd\, Houston\, TX\, 77072
CATEGORIES:Classes,Ongoing
ATTACH;FMTTYPE=image/jpeg:https://cthouston.org/wp-content/uploads/2019/10/IMG_4599-e1572127420652.jpg
END:VEVENT
BEGIN:VEVENT
DTSTART;TZID=America/Chicago:20250814T190000
DTEND;TZID=America/Chicago:20250814T213000
DTSTAMP:20260422T164509
CREATED:20241121T120512Z
LAST-MODIFIED:20260324T134511Z
UID:10002343-1755198000-1755207000@cthouston.org
SUMMARY:Sutra Study 1 (Every Thursday Evening)
DESCRIPTION:Click here to register
URL:https://cthouston.org/event/sutra-study-1-every-thursday-evening-2-2-2-2/2025-08-14/
LOCATION:Chung Tai Zen Center of Houston\, 12129 Bellaire Blvd\, Houston\, TX\, 77072
CATEGORIES:Classes,Ongoing
ATTACH;FMTTYPE=image/jpeg:https://cthouston.org/wp-content/uploads/2019/10/IMG_4599-e1572127420652.jpg
END:VEVENT
BEGIN:VEVENT
DTSTART;TZID=America/Chicago:20250816T100000
DTEND;TZID=America/Chicago:20250816T120000
DTSTAMP:20260422T164509
CREATED:20240802T190828Z
LAST-MODIFIED:20260324T134542Z
UID:10002862-1755338400-1755345600@cthouston.org
SUMMARY:Meditation Level 1 (Beginner - Every Saturday Morning)
DESCRIPTION:Click here to register
URL:https://cthouston.org/event/meditation-level-1-beginner-every-saturday-morning-2-2/2025-08-16/
LOCATION:Chung Tai Zen Center of Houston\, 12129 Bellaire Blvd\, Houston\, TX\, 77072
CATEGORIES:Classes,Ongoing
ATTACH;FMTTYPE=image/jpeg:https://cthouston.org/wp-content/uploads/2019/10/IMG_4599-e1572127420652.jpg
END:VEVENT
BEGIN:VEVENT
DTSTART;TZID=America/Chicago:20250816T163000
DTEND;TZID=America/Chicago:20250816T183000
DTSTAMP:20260422T164509
CREATED:20250531T020313Z
LAST-MODIFIED:20260324T134616Z
UID:10003796-1755361800-1755369000@cthouston.org
SUMMARY:Children's Meditation (Every Saturday Evening)
DESCRIPTION:Children’s meditation class is for children of age 4 to 12 years old. This class is designed to help students discover their inner wisdom and develop their potential\, positive and moral outlook on life through meditation and Chan stories. The creatively designed curriculum consists of instructions on meditation techniques\, dharma talks\, Buddhist/Chan stories\, mind-developing activities\, group discussions\, and fun crafts. \nSchedule: \n4:30 p.m. Chanting & meditation \n5:00 p.m. Dharma talk \n5:30 p.m. Group activities \n6:00 p.m. Dinner \nClick here to register
URL:https://cthouston.org/event/childrens-meditation-class-saturday-2-2/2025-08-16/
LOCATION:Chung Tai Zen Center of Houston\, 12129 Bellaire Blvd\, Houston\, TX\, 77072
CATEGORIES:Classes,Ongoing
ATTACH;FMTTYPE=image/png:https://cthouston.org/wp-content/uploads/2023/07/ChildrensMeditation.png
END:VEVENT
BEGIN:VEVENT
DTSTART;TZID=America/Chicago:20250817T090000
DTEND;TZID=America/Chicago:20250817T120000
DTSTAMP:20260422T164509
CREATED:20250527T140916Z
LAST-MODIFIED:20250527T140916Z
UID:10008025-1755421200-1755432000@cthouston.org
SUMMARY:August Half-Day Meditation Retreat
DESCRIPTION:
URL:https://cthouston.org/event/august-half-day-meditation-retreat/
LOCATION:Chung Tai Zen Center of Houston\, 12129 Bellaire Blvd\, Houston\, TX\, 77072
CATEGORIES:FrontPage,Retreats
ATTACH;FMTTYPE=image/jpeg:https://cthouston.org/wp-content/uploads/2019/10/retreat.jpg
END:VEVENT
END:VCALENDAR