BEGIN:VCALENDAR
VERSION:2.0
PRODID:-//Chung Tai Zen||Center of Houston||普德精舍 - ECPv6.15.17.1//NONSGML v1.0//EN
CALSCALE:GREGORIAN
METHOD:PUBLISH
X-ORIGINAL-URL:https://cthouston.org
X-WR-CALDESC:Events for Chung Tai Zen||Center of Houston||普德精舍
REFRESH-INTERVAL;VALUE=DURATION:PT1H
X-Robots-Tag:noindex
X-PUBLISHED-TTL:PT1H
BEGIN:VTIMEZONE
TZID:America/Chicago
BEGIN:DAYLIGHT
TZOFFSETFROM:-0600
TZOFFSETTO:-0500
TZNAME:CDT
DTSTART:20240310T080000
END:DAYLIGHT
BEGIN:STANDARD
TZOFFSETFROM:-0500
TZOFFSETTO:-0600
TZNAME:CST
DTSTART:20241103T070000
END:STANDARD
BEGIN:DAYLIGHT
TZOFFSETFROM:-0600
TZOFFSETTO:-0500
TZNAME:CDT
DTSTART:20250309T080000
END:DAYLIGHT
BEGIN:STANDARD
TZOFFSETFROM:-0500
TZOFFSETTO:-0600
TZNAME:CST
DTSTART:20251102T070000
END:STANDARD
BEGIN:DAYLIGHT
TZOFFSETFROM:-0600
TZOFFSETTO:-0500
TZNAME:CDT
DTSTART:20260308T080000
END:DAYLIGHT
BEGIN:STANDARD
TZOFFSETFROM:-0500
TZOFFSETTO:-0600
TZNAME:CST
DTSTART:20261101T070000
END:STANDARD
END:VTIMEZONE
BEGIN:VEVENT
DTSTART;TZID=America/Chicago:20250702T193000
DTEND;TZID=America/Chicago:20250702T213000
DTSTAMP:20260422T183128
CREATED:20240802T190013Z
LAST-MODIFIED:20260324T134356Z
UID:10003388-1751484600-1751491800@cthouston.org
SUMMARY:Meditation Level 3 (Advanced - Every Wednesday Evening)
DESCRIPTION:Click here to register
URL:https://cthouston.org/event/meditation-level-2-intermediate-every-wednesday-evening-2/2025-07-02/
LOCATION:Chung Tai Zen Center of Houston\, 12129 Bellaire Blvd\, Houston\, TX\, 77072
CATEGORIES:Classes,Ongoing
ATTACH;FMTTYPE=image/jpeg:https://cthouston.org/wp-content/uploads/2019/10/IMG_4599-e1572127420652.jpg
END:VEVENT
BEGIN:VEVENT
DTSTART;TZID=America/Chicago:20250702T193000
DTEND;TZID=America/Chicago:20250702T213000
DTSTAMP:20260422T183128
CREATED:20240802T190436Z
LAST-MODIFIED:20260324T134437Z
UID:10007484-1751484600-1751491800@cthouston.org
SUMMARY:Meditation Level 2 (Intermediate- Every Wednesday Evening)
DESCRIPTION:Click here to register
URL:https://cthouston.org/event/meditation-level-2-intermediate-2/2025-07-02/
LOCATION:Chung Tai Zen Center of Houston\, 12129 Bellaire Blvd\, Houston\, TX\, 77072
CATEGORIES:Classes,Ongoing
ATTACH;FMTTYPE=image/jpeg:https://cthouston.org/wp-content/uploads/2019/10/IMG_4599-e1572127420652.jpg
END:VEVENT
BEGIN:VEVENT
DTSTART;TZID=America/Chicago:20250703T190000
DTEND;TZID=America/Chicago:20250703T213000
DTSTAMP:20260422T183128
CREATED:20241121T120512Z
LAST-MODIFIED:20260324T134511Z
UID:10002337-1751569200-1751578200@cthouston.org
SUMMARY:Sutra Study 1 (Every Thursday Evening)
DESCRIPTION:Click here to register
URL:https://cthouston.org/event/sutra-study-1-every-thursday-evening-2-2-2-2/2025-07-03/
LOCATION:Chung Tai Zen Center of Houston\, 12129 Bellaire Blvd\, Houston\, TX\, 77072
CATEGORIES:Classes,Ongoing
ATTACH;FMTTYPE=image/jpeg:https://cthouston.org/wp-content/uploads/2019/10/IMG_4599-e1572127420652.jpg
END:VEVENT
BEGIN:VEVENT
DTSTART;TZID=America/Chicago:20250705T100000
DTEND;TZID=America/Chicago:20250705T120000
DTSTAMP:20260422T183128
CREATED:20240802T190828Z
LAST-MODIFIED:20260324T134542Z
UID:10002856-1751709600-1751716800@cthouston.org
SUMMARY:Meditation Level 1 (Beginner - Every Saturday Morning)
DESCRIPTION:Click here to register
URL:https://cthouston.org/event/meditation-level-1-beginner-every-saturday-morning-2-2/2025-07-05/
LOCATION:Chung Tai Zen Center of Houston\, 12129 Bellaire Blvd\, Houston\, TX\, 77072
CATEGORIES:Classes,Ongoing
ATTACH;FMTTYPE=image/jpeg:https://cthouston.org/wp-content/uploads/2019/10/IMG_4599-e1572127420652.jpg
END:VEVENT
BEGIN:VEVENT
DTSTART;TZID=America/Chicago:20250705T163000
DTEND;TZID=America/Chicago:20250705T183000
DTSTAMP:20260422T183128
CREATED:20250531T020313Z
LAST-MODIFIED:20260324T134616Z
UID:10003790-1751733000-1751740200@cthouston.org
SUMMARY:Children's Meditation (Every Saturday Evening)
DESCRIPTION:Children’s meditation class is for children of age 4 to 12 years old. This class is designed to help students discover their inner wisdom and develop their potential\, positive and moral outlook on life through meditation and Chan stories. The creatively designed curriculum consists of instructions on meditation techniques\, dharma talks\, Buddhist/Chan stories\, mind-developing activities\, group discussions\, and fun crafts. \nSchedule: \n4:30 p.m. Chanting & meditation \n5:00 p.m. Dharma talk \n5:30 p.m. Group activities \n6:00 p.m. Dinner \nClick here to register
URL:https://cthouston.org/event/childrens-meditation-class-saturday-2-2/2025-07-05/
LOCATION:Chung Tai Zen Center of Houston\, 12129 Bellaire Blvd\, Houston\, TX\, 77072
CATEGORIES:Classes,Ongoing
ATTACH;FMTTYPE=image/png:https://cthouston.org/wp-content/uploads/2023/07/ChildrensMeditation.png
END:VEVENT
BEGIN:VEVENT
DTSTART;TZID=America/Chicago:20250706T093000
DTEND;TZID=America/Chicago:20250706T150000
DTSTAMP:20260422T183128
CREATED:20250514T025011Z
LAST-MODIFIED:20250514T025011Z
UID:10008006-1751794200-1751814000@cthouston.org
SUMMARY:88 Buddhas Repentance Ceremony
DESCRIPTION:
URL:https://cthouston.org/event/88-buddhas-repentance-ceremony-07-25/
LOCATION:Chung Tai Zen Center of Houston\, 12129 Bellaire Blvd\, Houston\, TX\, 77072
CATEGORIES:Ceremonies,FrontPage
ATTACH;FMTTYPE=image/jpeg:https://cthouston.org/wp-content/uploads/2022/11/DSF9701-scaled.jpg
END:VEVENT
BEGIN:VEVENT
DTSTART;TZID=America/Chicago:20250707T193000
DTEND;TZID=America/Chicago:20250707T213000
DTSTAMP:20260422T183128
CREATED:20241224T025503Z
LAST-MODIFIED:20260324T134720Z
UID:10001561-1751916600-1751923800@cthouston.org
SUMMARY:Meditation Level 1 (Beginner - Every Monday Evening)
DESCRIPTION:Click here to register
URL:https://cthouston.org/event/meditation-level-1-beginner-every-monday-evening-2-2-2/2025-07-07/
LOCATION:Chung Tai Zen Center of Houston\, 12129 Bellaire Blvd\, Houston\, TX\, 77072
CATEGORIES:Classes,Ongoing
ATTACH;FMTTYPE=image/jpeg:https://cthouston.org/wp-content/uploads/2019/10/IMG_4599-e1572127420652.jpg
END:VEVENT
BEGIN:VEVENT
DTSTART;TZID=America/Chicago:20250709T193000
DTEND;TZID=America/Chicago:20250709T213000
DTSTAMP:20260422T183128
CREATED:20240802T190013Z
LAST-MODIFIED:20260324T134356Z
UID:10003389-1752089400-1752096600@cthouston.org
SUMMARY:Meditation Level 3 (Advanced - Every Wednesday Evening)
DESCRIPTION:Click here to register
URL:https://cthouston.org/event/meditation-level-2-intermediate-every-wednesday-evening-2/2025-07-09/
LOCATION:Chung Tai Zen Center of Houston\, 12129 Bellaire Blvd\, Houston\, TX\, 77072
CATEGORIES:Classes,Ongoing
ATTACH;FMTTYPE=image/jpeg:https://cthouston.org/wp-content/uploads/2019/10/IMG_4599-e1572127420652.jpg
END:VEVENT
BEGIN:VEVENT
DTSTART;TZID=America/Chicago:20250709T193000
DTEND;TZID=America/Chicago:20250709T213000
DTSTAMP:20260422T183128
CREATED:20240802T190436Z
LAST-MODIFIED:20260324T134437Z
UID:10007485-1752089400-1752096600@cthouston.org
SUMMARY:Meditation Level 2 (Intermediate- Every Wednesday Evening)
DESCRIPTION:Click here to register
URL:https://cthouston.org/event/meditation-level-2-intermediate-2/2025-07-09/
LOCATION:Chung Tai Zen Center of Houston\, 12129 Bellaire Blvd\, Houston\, TX\, 77072
CATEGORIES:Classes,Ongoing
ATTACH;FMTTYPE=image/jpeg:https://cthouston.org/wp-content/uploads/2019/10/IMG_4599-e1572127420652.jpg
END:VEVENT
BEGIN:VEVENT
DTSTART;TZID=America/Chicago:20250710T190000
DTEND;TZID=America/Chicago:20250710T213000
DTSTAMP:20260422T183128
CREATED:20241121T120512Z
LAST-MODIFIED:20260324T134511Z
UID:10002338-1752174000-1752183000@cthouston.org
SUMMARY:Sutra Study 1 (Every Thursday Evening)
DESCRIPTION:Click here to register
URL:https://cthouston.org/event/sutra-study-1-every-thursday-evening-2-2-2-2/2025-07-10/
LOCATION:Chung Tai Zen Center of Houston\, 12129 Bellaire Blvd\, Houston\, TX\, 77072
CATEGORIES:Classes,Ongoing
ATTACH;FMTTYPE=image/jpeg:https://cthouston.org/wp-content/uploads/2019/10/IMG_4599-e1572127420652.jpg
END:VEVENT
BEGIN:VEVENT
DTSTART;TZID=America/Chicago:20250712T100000
DTEND;TZID=America/Chicago:20250712T120000
DTSTAMP:20260422T183128
CREATED:20240802T190828Z
LAST-MODIFIED:20260324T134542Z
UID:10002857-1752314400-1752321600@cthouston.org
SUMMARY:Meditation Level 1 (Beginner - Every Saturday Morning)
DESCRIPTION:Click here to register
URL:https://cthouston.org/event/meditation-level-1-beginner-every-saturday-morning-2-2/2025-07-12/
LOCATION:Chung Tai Zen Center of Houston\, 12129 Bellaire Blvd\, Houston\, TX\, 77072
CATEGORIES:Classes,Ongoing
ATTACH;FMTTYPE=image/jpeg:https://cthouston.org/wp-content/uploads/2019/10/IMG_4599-e1572127420652.jpg
END:VEVENT
BEGIN:VEVENT
DTSTART;TZID=America/Chicago:20250712T163000
DTEND;TZID=America/Chicago:20250712T183000
DTSTAMP:20260422T183128
CREATED:20250531T020313Z
LAST-MODIFIED:20260324T134616Z
UID:10003791-1752337800-1752345000@cthouston.org
SUMMARY:Children's Meditation (Every Saturday Evening)
DESCRIPTION:Children’s meditation class is for children of age 4 to 12 years old. This class is designed to help students discover their inner wisdom and develop their potential\, positive and moral outlook on life through meditation and Chan stories. The creatively designed curriculum consists of instructions on meditation techniques\, dharma talks\, Buddhist/Chan stories\, mind-developing activities\, group discussions\, and fun crafts. \nSchedule: \n4:30 p.m. Chanting & meditation \n5:00 p.m. Dharma talk \n5:30 p.m. Group activities \n6:00 p.m. Dinner \nClick here to register
URL:https://cthouston.org/event/childrens-meditation-class-saturday-2-2/2025-07-12/
LOCATION:Chung Tai Zen Center of Houston\, 12129 Bellaire Blvd\, Houston\, TX\, 77072
CATEGORIES:Classes,Ongoing
ATTACH;FMTTYPE=image/png:https://cthouston.org/wp-content/uploads/2023/07/ChildrensMeditation.png
END:VEVENT
BEGIN:VEVENT
DTSTART;TZID=America/Chicago:20250713T090000
DTEND;TZID=America/Chicago:20250713T120000
DTSTAMP:20260422T183128
CREATED:20250527T140749Z
LAST-MODIFIED:20250527T140749Z
UID:10008023-1752397200-1752408000@cthouston.org
SUMMARY:July Half-Day Meditation Retreat
DESCRIPTION:
URL:https://cthouston.org/event/july-2025-half-day-meditation-retreat/
LOCATION:Chung Tai Zen Center of Houston\, 12129 Bellaire Blvd\, Houston\, TX\, 77072
CATEGORIES:FrontPage,Retreats
ATTACH;FMTTYPE=image/jpeg:https://cthouston.org/wp-content/uploads/2019/10/retreat.jpg
END:VEVENT
BEGIN:VEVENT
DTSTART;TZID=America/Chicago:20250714T193000
DTEND;TZID=America/Chicago:20250714T213000
DTSTAMP:20260422T183128
CREATED:20241224T025503Z
LAST-MODIFIED:20260324T134720Z
UID:10001562-1752521400-1752528600@cthouston.org
SUMMARY:Meditation Level 1 (Beginner - Every Monday Evening)
DESCRIPTION:Click here to register
URL:https://cthouston.org/event/meditation-level-1-beginner-every-monday-evening-2-2-2/2025-07-14/
LOCATION:Chung Tai Zen Center of Houston\, 12129 Bellaire Blvd\, Houston\, TX\, 77072
CATEGORIES:Classes,Ongoing
ATTACH;FMTTYPE=image/jpeg:https://cthouston.org/wp-content/uploads/2019/10/IMG_4599-e1572127420652.jpg
END:VEVENT
BEGIN:VEVENT
DTSTART;TZID=America/Chicago:20250716T193000
DTEND;TZID=America/Chicago:20250716T213000
DTSTAMP:20260422T183128
CREATED:20240802T190013Z
LAST-MODIFIED:20260324T134356Z
UID:10003390-1752694200-1752701400@cthouston.org
SUMMARY:Meditation Level 3 (Advanced - Every Wednesday Evening)
DESCRIPTION:Click here to register
URL:https://cthouston.org/event/meditation-level-2-intermediate-every-wednesday-evening-2/2025-07-16/
LOCATION:Chung Tai Zen Center of Houston\, 12129 Bellaire Blvd\, Houston\, TX\, 77072
CATEGORIES:Classes,Ongoing
ATTACH;FMTTYPE=image/jpeg:https://cthouston.org/wp-content/uploads/2019/10/IMG_4599-e1572127420652.jpg
END:VEVENT
BEGIN:VEVENT
DTSTART;TZID=America/Chicago:20250716T193000
DTEND;TZID=America/Chicago:20250716T213000
DTSTAMP:20260422T183128
CREATED:20240802T190436Z
LAST-MODIFIED:20260324T134437Z
UID:10007486-1752694200-1752701400@cthouston.org
SUMMARY:Meditation Level 2 (Intermediate- Every Wednesday Evening)
DESCRIPTION:Click here to register
URL:https://cthouston.org/event/meditation-level-2-intermediate-2/2025-07-16/
LOCATION:Chung Tai Zen Center of Houston\, 12129 Bellaire Blvd\, Houston\, TX\, 77072
CATEGORIES:Classes,Ongoing
ATTACH;FMTTYPE=image/jpeg:https://cthouston.org/wp-content/uploads/2019/10/IMG_4599-e1572127420652.jpg
END:VEVENT
BEGIN:VEVENT
DTSTART;TZID=America/Chicago:20250717T190000
DTEND;TZID=America/Chicago:20250717T213000
DTSTAMP:20260422T183128
CREATED:20241121T120512Z
LAST-MODIFIED:20260324T134511Z
UID:10002339-1752778800-1752787800@cthouston.org
SUMMARY:Sutra Study 1 (Every Thursday Evening)
DESCRIPTION:Click here to register
URL:https://cthouston.org/event/sutra-study-1-every-thursday-evening-2-2-2-2/2025-07-17/
LOCATION:Chung Tai Zen Center of Houston\, 12129 Bellaire Blvd\, Houston\, TX\, 77072
CATEGORIES:Classes,Ongoing
ATTACH;FMTTYPE=image/jpeg:https://cthouston.org/wp-content/uploads/2019/10/IMG_4599-e1572127420652.jpg
END:VEVENT
BEGIN:VEVENT
DTSTART;TZID=America/Chicago:20250719T100000
DTEND;TZID=America/Chicago:20250719T120000
DTSTAMP:20260422T183128
CREATED:20240802T190828Z
LAST-MODIFIED:20260324T134542Z
UID:10002858-1752919200-1752926400@cthouston.org
SUMMARY:Meditation Level 1 (Beginner - Every Saturday Morning)
DESCRIPTION:Click here to register
URL:https://cthouston.org/event/meditation-level-1-beginner-every-saturday-morning-2-2/2025-07-19/
LOCATION:Chung Tai Zen Center of Houston\, 12129 Bellaire Blvd\, Houston\, TX\, 77072
CATEGORIES:Classes,Ongoing
ATTACH;FMTTYPE=image/jpeg:https://cthouston.org/wp-content/uploads/2019/10/IMG_4599-e1572127420652.jpg
END:VEVENT
BEGIN:VEVENT
DTSTART;TZID=America/Chicago:20250719T163000
DTEND;TZID=America/Chicago:20250719T183000
DTSTAMP:20260422T183128
CREATED:20250531T020313Z
LAST-MODIFIED:20260324T134616Z
UID:10003792-1752942600-1752949800@cthouston.org
SUMMARY:Children's Meditation (Every Saturday Evening)
DESCRIPTION:Children’s meditation class is for children of age 4 to 12 years old. This class is designed to help students discover their inner wisdom and develop their potential\, positive and moral outlook on life through meditation and Chan stories. The creatively designed curriculum consists of instructions on meditation techniques\, dharma talks\, Buddhist/Chan stories\, mind-developing activities\, group discussions\, and fun crafts. \nSchedule: \n4:30 p.m. Chanting & meditation \n5:00 p.m. Dharma talk \n5:30 p.m. Group activities \n6:00 p.m. Dinner \nClick here to register
URL:https://cthouston.org/event/childrens-meditation-class-saturday-2-2/2025-07-19/
LOCATION:Chung Tai Zen Center of Houston\, 12129 Bellaire Blvd\, Houston\, TX\, 77072
CATEGORIES:Classes,Ongoing
ATTACH;FMTTYPE=image/png:https://cthouston.org/wp-content/uploads/2023/07/ChildrensMeditation.png
END:VEVENT
BEGIN:VEVENT
DTSTART;TZID=America/Chicago:20250721T193000
DTEND;TZID=America/Chicago:20250721T213000
DTSTAMP:20260422T183128
CREATED:20241224T025503Z
LAST-MODIFIED:20260324T134720Z
UID:10001563-1753126200-1753133400@cthouston.org
SUMMARY:Meditation Level 1 (Beginner - Every Monday Evening)
DESCRIPTION:Click here to register
URL:https://cthouston.org/event/meditation-level-1-beginner-every-monday-evening-2-2-2/2025-07-21/
LOCATION:Chung Tai Zen Center of Houston\, 12129 Bellaire Blvd\, Houston\, TX\, 77072
CATEGORIES:Classes,Ongoing
ATTACH;FMTTYPE=image/jpeg:https://cthouston.org/wp-content/uploads/2019/10/IMG_4599-e1572127420652.jpg
END:VEVENT
BEGIN:VEVENT
DTSTART;TZID=America/Chicago:20250723T193000
DTEND;TZID=America/Chicago:20250723T213000
DTSTAMP:20260422T183128
CREATED:20240802T190013Z
LAST-MODIFIED:20260324T134356Z
UID:10003391-1753299000-1753306200@cthouston.org
SUMMARY:Meditation Level 3 (Advanced - Every Wednesday Evening)
DESCRIPTION:Click here to register
URL:https://cthouston.org/event/meditation-level-2-intermediate-every-wednesday-evening-2/2025-07-23/
LOCATION:Chung Tai Zen Center of Houston\, 12129 Bellaire Blvd\, Houston\, TX\, 77072
CATEGORIES:Classes,Ongoing
ATTACH;FMTTYPE=image/jpeg:https://cthouston.org/wp-content/uploads/2019/10/IMG_4599-e1572127420652.jpg
END:VEVENT
BEGIN:VEVENT
DTSTART;TZID=America/Chicago:20250723T193000
DTEND;TZID=America/Chicago:20250723T213000
DTSTAMP:20260422T183128
CREATED:20240802T190436Z
LAST-MODIFIED:20260324T134437Z
UID:10007487-1753299000-1753306200@cthouston.org
SUMMARY:Meditation Level 2 (Intermediate- Every Wednesday Evening)
DESCRIPTION:Click here to register
URL:https://cthouston.org/event/meditation-level-2-intermediate-2/2025-07-23/
LOCATION:Chung Tai Zen Center of Houston\, 12129 Bellaire Blvd\, Houston\, TX\, 77072
CATEGORIES:Classes,Ongoing
ATTACH;FMTTYPE=image/jpeg:https://cthouston.org/wp-content/uploads/2019/10/IMG_4599-e1572127420652.jpg
END:VEVENT
BEGIN:VEVENT
DTSTART;TZID=America/Chicago:20250724T190000
DTEND;TZID=America/Chicago:20250724T213000
DTSTAMP:20260422T183128
CREATED:20241121T120512Z
LAST-MODIFIED:20260324T134511Z
UID:10002340-1753383600-1753392600@cthouston.org
SUMMARY:Sutra Study 1 (Every Thursday Evening)
DESCRIPTION:Click here to register
URL:https://cthouston.org/event/sutra-study-1-every-thursday-evening-2-2-2-2/2025-07-24/
LOCATION:Chung Tai Zen Center of Houston\, 12129 Bellaire Blvd\, Houston\, TX\, 77072
CATEGORIES:Classes,Ongoing
ATTACH;FMTTYPE=image/jpeg:https://cthouston.org/wp-content/uploads/2019/10/IMG_4599-e1572127420652.jpg
END:VEVENT
BEGIN:VEVENT
DTSTART;TZID=America/Chicago:20250726T100000
DTEND;TZID=America/Chicago:20250726T120000
DTSTAMP:20260422T183128
CREATED:20240802T190828Z
LAST-MODIFIED:20260324T134542Z
UID:10002859-1753524000-1753531200@cthouston.org
SUMMARY:Meditation Level 1 (Beginner - Every Saturday Morning)
DESCRIPTION:Click here to register
URL:https://cthouston.org/event/meditation-level-1-beginner-every-saturday-morning-2-2/2025-07-26/
LOCATION:Chung Tai Zen Center of Houston\, 12129 Bellaire Blvd\, Houston\, TX\, 77072
CATEGORIES:Classes,Ongoing
ATTACH;FMTTYPE=image/jpeg:https://cthouston.org/wp-content/uploads/2019/10/IMG_4599-e1572127420652.jpg
END:VEVENT
BEGIN:VEVENT
DTSTART;TZID=America/Chicago:20250726T163000
DTEND;TZID=America/Chicago:20250726T183000
DTSTAMP:20260422T183128
CREATED:20250531T020313Z
LAST-MODIFIED:20260324T134616Z
UID:10003793-1753547400-1753554600@cthouston.org
SUMMARY:Children's Meditation (Every Saturday Evening)
DESCRIPTION:Children’s meditation class is for children of age 4 to 12 years old. This class is designed to help students discover their inner wisdom and develop their potential\, positive and moral outlook on life through meditation and Chan stories. The creatively designed curriculum consists of instructions on meditation techniques\, dharma talks\, Buddhist/Chan stories\, mind-developing activities\, group discussions\, and fun crafts. \nSchedule: \n4:30 p.m. Chanting & meditation \n5:00 p.m. Dharma talk \n5:30 p.m. Group activities \n6:00 p.m. Dinner \nClick here to register
URL:https://cthouston.org/event/childrens-meditation-class-saturday-2-2/2025-07-26/
LOCATION:Chung Tai Zen Center of Houston\, 12129 Bellaire Blvd\, Houston\, TX\, 77072
CATEGORIES:Classes,Ongoing
ATTACH;FMTTYPE=image/png:https://cthouston.org/wp-content/uploads/2023/07/ChildrensMeditation.png
END:VEVENT
BEGIN:VEVENT
DTSTART;TZID=America/Chicago:20250727T090000
DTEND;TZID=America/Chicago:20250727T120000
DTSTAMP:20260422T183128
CREATED:20250527T140823Z
LAST-MODIFIED:20250527T140823Z
UID:10008024-1753606800-1753617600@cthouston.org
SUMMARY:July Half-Day Meditation Retreat
DESCRIPTION:
URL:https://cthouston.org/event/july-half-day-meditation-retreat-2/
LOCATION:Chung Tai Zen Center of Houston\, 12129 Bellaire Blvd\, Houston\, TX\, 77072
CATEGORIES:FrontPage,Retreats
ATTACH;FMTTYPE=image/jpeg:https://cthouston.org/wp-content/uploads/2019/10/retreat.jpg
END:VEVENT
BEGIN:VEVENT
DTSTART;TZID=America/Chicago:20250728T193000
DTEND;TZID=America/Chicago:20250728T213000
DTSTAMP:20260422T183128
CREATED:20241224T025503Z
LAST-MODIFIED:20260324T134720Z
UID:10001564-1753731000-1753738200@cthouston.org
SUMMARY:Meditation Level 1 (Beginner - Every Monday Evening)
DESCRIPTION:Click here to register
URL:https://cthouston.org/event/meditation-level-1-beginner-every-monday-evening-2-2-2/2025-07-28/
LOCATION:Chung Tai Zen Center of Houston\, 12129 Bellaire Blvd\, Houston\, TX\, 77072
CATEGORIES:Classes,Ongoing
ATTACH;FMTTYPE=image/jpeg:https://cthouston.org/wp-content/uploads/2019/10/IMG_4599-e1572127420652.jpg
END:VEVENT
BEGIN:VEVENT
DTSTART;TZID=America/Chicago:20250730T193000
DTEND;TZID=America/Chicago:20250730T213000
DTSTAMP:20260422T183128
CREATED:20240802T190013Z
LAST-MODIFIED:20260324T134356Z
UID:10003392-1753903800-1753911000@cthouston.org
SUMMARY:Meditation Level 3 (Advanced - Every Wednesday Evening)
DESCRIPTION:Click here to register
URL:https://cthouston.org/event/meditation-level-2-intermediate-every-wednesday-evening-2/2025-07-30/
LOCATION:Chung Tai Zen Center of Houston\, 12129 Bellaire Blvd\, Houston\, TX\, 77072
CATEGORIES:Classes,Ongoing
ATTACH;FMTTYPE=image/jpeg:https://cthouston.org/wp-content/uploads/2019/10/IMG_4599-e1572127420652.jpg
END:VEVENT
BEGIN:VEVENT
DTSTART;TZID=America/Chicago:20250730T193000
DTEND;TZID=America/Chicago:20250730T213000
DTSTAMP:20260422T183128
CREATED:20240802T190436Z
LAST-MODIFIED:20260324T134437Z
UID:10007488-1753903800-1753911000@cthouston.org
SUMMARY:Meditation Level 2 (Intermediate- Every Wednesday Evening)
DESCRIPTION:Click here to register
URL:https://cthouston.org/event/meditation-level-2-intermediate-2/2025-07-30/
LOCATION:Chung Tai Zen Center of Houston\, 12129 Bellaire Blvd\, Houston\, TX\, 77072
CATEGORIES:Classes,Ongoing
ATTACH;FMTTYPE=image/jpeg:https://cthouston.org/wp-content/uploads/2019/10/IMG_4599-e1572127420652.jpg
END:VEVENT
BEGIN:VEVENT
DTSTART;TZID=America/Chicago:20250731T190000
DTEND;TZID=America/Chicago:20250731T213000
DTSTAMP:20260422T183128
CREATED:20241121T120512Z
LAST-MODIFIED:20260324T134511Z
UID:10002341-1753988400-1753997400@cthouston.org
SUMMARY:Sutra Study 1 (Every Thursday Evening)
DESCRIPTION:Click here to register
URL:https://cthouston.org/event/sutra-study-1-every-thursday-evening-2-2-2-2/2025-07-31/
LOCATION:Chung Tai Zen Center of Houston\, 12129 Bellaire Blvd\, Houston\, TX\, 77072
CATEGORIES:Classes,Ongoing
ATTACH;FMTTYPE=image/jpeg:https://cthouston.org/wp-content/uploads/2019/10/IMG_4599-e1572127420652.jpg
END:VEVENT
END:VCALENDAR