BEGIN:VCALENDAR
VERSION:2.0
PRODID:-//Chung Tai Zen||Center of Houston||普德精舍 - ECPv6.15.17.1//NONSGML v1.0//EN
CALSCALE:GREGORIAN
METHOD:PUBLISH
X-WR-CALNAME:Chung Tai Zen||Center of Houston||普德精舍
X-ORIGINAL-URL:https://cthouston.org
X-WR-CALDESC:Events for Chung Tai Zen||Center of Houston||普德精舍
REFRESH-INTERVAL;VALUE=DURATION:PT1H
X-Robots-Tag:noindex
X-PUBLISHED-TTL:PT1H
BEGIN:VTIMEZONE
TZID:America/Chicago
BEGIN:DAYLIGHT
TZOFFSETFROM:-0600
TZOFFSETTO:-0500
TZNAME:CDT
DTSTART:20240310T080000
END:DAYLIGHT
BEGIN:STANDARD
TZOFFSETFROM:-0500
TZOFFSETTO:-0600
TZNAME:CST
DTSTART:20241103T070000
END:STANDARD
BEGIN:DAYLIGHT
TZOFFSETFROM:-0600
TZOFFSETTO:-0500
TZNAME:CDT
DTSTART:20250309T080000
END:DAYLIGHT
BEGIN:STANDARD
TZOFFSETFROM:-0500
TZOFFSETTO:-0600
TZNAME:CST
DTSTART:20251102T070000
END:STANDARD
BEGIN:DAYLIGHT
TZOFFSETFROM:-0600
TZOFFSETTO:-0500
TZNAME:CDT
DTSTART:20260308T080000
END:DAYLIGHT
BEGIN:STANDARD
TZOFFSETFROM:-0500
TZOFFSETTO:-0600
TZNAME:CST
DTSTART:20261101T070000
END:STANDARD
END:VTIMEZONE
BEGIN:VEVENT
DTSTART;TZID=America/Chicago:20250501T190000
DTEND;TZID=America/Chicago:20250501T213000
DTSTAMP:20260424T084737
CREATED:20241121T120512Z
LAST-MODIFIED:20260324T134511Z
UID:10002328-1746126000-1746135000@cthouston.org
SUMMARY:Sutra Study 1 (Every Thursday Evening)
DESCRIPTION:Click here to register
URL:https://cthouston.org/event/sutra-study-1-every-thursday-evening-2-2-2-2/2025-05-01/
LOCATION:Chung Tai Zen Center of Houston\, 12129 Bellaire Blvd\, Houston\, TX\, 77072
CATEGORIES:Classes,Ongoing
ATTACH;FMTTYPE=image/jpeg:https://cthouston.org/wp-content/uploads/2019/10/IMG_4599-e1572127420652.jpg
END:VEVENT
BEGIN:VEVENT
DTSTART;TZID=America/Chicago:20250503T100000
DTEND;TZID=America/Chicago:20250503T120000
DTSTAMP:20260424T084737
CREATED:20240802T190828Z
LAST-MODIFIED:20260324T134542Z
UID:10002847-1746266400-1746273600@cthouston.org
SUMMARY:Meditation Level 1 (Beginner - Every Saturday Morning)
DESCRIPTION:Click here to register
URL:https://cthouston.org/event/meditation-level-1-beginner-every-saturday-morning-2-2/2025-05-03/
LOCATION:Chung Tai Zen Center of Houston\, 12129 Bellaire Blvd\, Houston\, TX\, 77072
CATEGORIES:Classes,Ongoing
ATTACH;FMTTYPE=image/jpeg:https://cthouston.org/wp-content/uploads/2019/10/IMG_4599-e1572127420652.jpg
END:VEVENT
BEGIN:VEVENT
DTSTART;TZID=America/Chicago:20250503T163000
DTEND;TZID=America/Chicago:20250503T180000
DTSTAMP:20260424T084737
CREATED:20240802T185901Z
LAST-MODIFIED:20250224T232439Z
UID:10003781-1746289800-1746295200@cthouston.org
SUMMARY:Children's Meditation (Every Saturday Evening)
DESCRIPTION:Children’s meditation class is for children of age 4 to 12 years old. This class is designed to help students discover their inner wisdom and develop their potential\, positive and moral outlook on life through meditation and Chan stories. The creatively designed curriculum consists of instructions on meditation techniques\, dharma talks\, Buddhist/Chan stories\, mind-developing activities\, group discussions\, and fun crafts. \nSchedule: \n4:30 p.m. Chanting & meditation \n5:00 p.m. Dharma talk \n5:30 p.m. Group activities \n6:00 p.m. Dinner \nClick here to register
URL:https://cthouston.org/event/childrens-meditation-class-saturday-2/2025-05-03/
LOCATION:Chung Tai Zen Center of Houston\, 12129 Bellaire Blvd\, Houston\, TX\, 77072
CATEGORIES:Classes,Ongoing
ATTACH;FMTTYPE=image/png:https://cthouston.org/wp-content/uploads/2023/07/ChildrensMeditation.png
END:VEVENT
BEGIN:VEVENT
DTSTART;TZID=America/Chicago:20250504T093000
DTEND;TZID=America/Chicago:20250504T143000
DTSTAMP:20260424T084737
CREATED:20250414T191422Z
LAST-MODIFIED:20250414T203841Z
UID:10008003-1746351000-1746369000@cthouston.org
SUMMARY:Buddha Bathing Ceremony & International Veggie Festival
DESCRIPTION:
URL:https://cthouston.org/event/buddha-bathing-ceremony-international-veggie-festival-2025/
LOCATION:Chung Tai Zen Center of Houston\, 12129 Bellaire Blvd\, Houston\, TX\, 77072
CATEGORIES:FrontPage
ATTACH;FMTTYPE=image/jpeg:https://cthouston.org/wp-content/uploads/2019/10/healthyVeggie.jpg
END:VEVENT
BEGIN:VEVENT
DTSTART;TZID=America/Chicago:20250505T193000
DTEND;TZID=America/Chicago:20250505T213000
DTSTAMP:20260424T084737
CREATED:20241224T025503Z
LAST-MODIFIED:20260324T134720Z
UID:10001552-1746473400-1746480600@cthouston.org
SUMMARY:Meditation Level 1 (Beginner - Every Monday Evening)
DESCRIPTION:Click here to register
URL:https://cthouston.org/event/meditation-level-1-beginner-every-monday-evening-2-2-2/2025-05-05/
LOCATION:Chung Tai Zen Center of Houston\, 12129 Bellaire Blvd\, Houston\, TX\, 77072
CATEGORIES:Classes,Ongoing
ATTACH;FMTTYPE=image/jpeg:https://cthouston.org/wp-content/uploads/2019/10/IMG_4599-e1572127420652.jpg
END:VEVENT
BEGIN:VEVENT
DTSTART;TZID=America/Chicago:20250507T193000
DTEND;TZID=America/Chicago:20250507T213000
DTSTAMP:20260424T084737
CREATED:20240802T190013Z
LAST-MODIFIED:20260324T134356Z
UID:10003380-1746646200-1746653400@cthouston.org
SUMMARY:Meditation Level 3 (Advanced - Every Wednesday Evening)
DESCRIPTION:Click here to register
URL:https://cthouston.org/event/meditation-level-2-intermediate-every-wednesday-evening-2/2025-05-07/
LOCATION:Chung Tai Zen Center of Houston\, 12129 Bellaire Blvd\, Houston\, TX\, 77072
CATEGORIES:Classes,Ongoing
ATTACH;FMTTYPE=image/jpeg:https://cthouston.org/wp-content/uploads/2019/10/IMG_4599-e1572127420652.jpg
END:VEVENT
BEGIN:VEVENT
DTSTART;TZID=America/Chicago:20250507T193000
DTEND;TZID=America/Chicago:20250507T213000
DTSTAMP:20260424T084737
CREATED:20240802T190436Z
LAST-MODIFIED:20260324T134437Z
UID:10007476-1746646200-1746653400@cthouston.org
SUMMARY:Meditation Level 2 (Intermediate- Every Wednesday Evening)
DESCRIPTION:Click here to register
URL:https://cthouston.org/event/meditation-level-2-intermediate-2/2025-05-07/
LOCATION:Chung Tai Zen Center of Houston\, 12129 Bellaire Blvd\, Houston\, TX\, 77072
CATEGORIES:Classes,Ongoing
ATTACH;FMTTYPE=image/jpeg:https://cthouston.org/wp-content/uploads/2019/10/IMG_4599-e1572127420652.jpg
END:VEVENT
BEGIN:VEVENT
DTSTART;TZID=America/Chicago:20250508T190000
DTEND;TZID=America/Chicago:20250508T213000
DTSTAMP:20260424T084737
CREATED:20241121T120512Z
LAST-MODIFIED:20260324T134511Z
UID:10002329-1746730800-1746739800@cthouston.org
SUMMARY:Sutra Study 1 (Every Thursday Evening)
DESCRIPTION:Click here to register
URL:https://cthouston.org/event/sutra-study-1-every-thursday-evening-2-2-2-2/2025-05-08/
LOCATION:Chung Tai Zen Center of Houston\, 12129 Bellaire Blvd\, Houston\, TX\, 77072
CATEGORIES:Classes,Ongoing
ATTACH;FMTTYPE=image/jpeg:https://cthouston.org/wp-content/uploads/2019/10/IMG_4599-e1572127420652.jpg
END:VEVENT
BEGIN:VEVENT
DTSTART;TZID=America/Chicago:20250510T100000
DTEND;TZID=America/Chicago:20250510T120000
DTSTAMP:20260424T084737
CREATED:20240802T190828Z
LAST-MODIFIED:20260324T134542Z
UID:10002848-1746871200-1746878400@cthouston.org
SUMMARY:Meditation Level 1 (Beginner - Every Saturday Morning)
DESCRIPTION:Click here to register
URL:https://cthouston.org/event/meditation-level-1-beginner-every-saturday-morning-2-2/2025-05-10/
LOCATION:Chung Tai Zen Center of Houston\, 12129 Bellaire Blvd\, Houston\, TX\, 77072
CATEGORIES:Classes,Ongoing
ATTACH;FMTTYPE=image/jpeg:https://cthouston.org/wp-content/uploads/2019/10/IMG_4599-e1572127420652.jpg
END:VEVENT
BEGIN:VEVENT
DTSTART;TZID=America/Chicago:20250510T163000
DTEND;TZID=America/Chicago:20250510T180000
DTSTAMP:20260424T084737
CREATED:20240802T185901Z
LAST-MODIFIED:20250224T232439Z
UID:10003782-1746894600-1746900000@cthouston.org
SUMMARY:Children's Meditation (Every Saturday Evening)
DESCRIPTION:Children’s meditation class is for children of age 4 to 12 years old. This class is designed to help students discover their inner wisdom and develop their potential\, positive and moral outlook on life through meditation and Chan stories. The creatively designed curriculum consists of instructions on meditation techniques\, dharma talks\, Buddhist/Chan stories\, mind-developing activities\, group discussions\, and fun crafts. \nSchedule: \n4:30 p.m. Chanting & meditation \n5:00 p.m. Dharma talk \n5:30 p.m. Group activities \n6:00 p.m. Dinner \nClick here to register
URL:https://cthouston.org/event/childrens-meditation-class-saturday-2/2025-05-10/
LOCATION:Chung Tai Zen Center of Houston\, 12129 Bellaire Blvd\, Houston\, TX\, 77072
CATEGORIES:Classes,Ongoing
ATTACH;FMTTYPE=image/png:https://cthouston.org/wp-content/uploads/2023/07/ChildrensMeditation.png
END:VEVENT
BEGIN:VEVENT
DTSTART;TZID=America/Chicago:20250511T090000
DTEND;TZID=America/Chicago:20250511T120000
DTSTAMP:20260424T084737
CREATED:20250325T150918Z
LAST-MODIFIED:20250325T150918Z
UID:10007999-1746954000-1746964800@cthouston.org
SUMMARY:May Half-Day Meditation Retreat
DESCRIPTION:
URL:https://cthouston.org/event/may2025-half-day-meditation-retreat/
LOCATION:Chung Tai Zen Center of Houston\, 12129 Bellaire Blvd\, Houston\, TX\, 77072
CATEGORIES:FrontPage,Retreats
ATTACH;FMTTYPE=image/jpeg:https://cthouston.org/wp-content/uploads/2019/10/retreat.jpg
END:VEVENT
BEGIN:VEVENT
DTSTART;TZID=America/Chicago:20250512T193000
DTEND;TZID=America/Chicago:20250512T213000
DTSTAMP:20260424T084737
CREATED:20241224T025503Z
LAST-MODIFIED:20260324T134720Z
UID:10001553-1747078200-1747085400@cthouston.org
SUMMARY:Meditation Level 1 (Beginner - Every Monday Evening)
DESCRIPTION:Click here to register
URL:https://cthouston.org/event/meditation-level-1-beginner-every-monday-evening-2-2-2/2025-05-12/
LOCATION:Chung Tai Zen Center of Houston\, 12129 Bellaire Blvd\, Houston\, TX\, 77072
CATEGORIES:Classes,Ongoing
ATTACH;FMTTYPE=image/jpeg:https://cthouston.org/wp-content/uploads/2019/10/IMG_4599-e1572127420652.jpg
END:VEVENT
BEGIN:VEVENT
DTSTART;TZID=America/Chicago:20250514T193000
DTEND;TZID=America/Chicago:20250514T213000
DTSTAMP:20260424T084737
CREATED:20240802T190013Z
LAST-MODIFIED:20260324T134356Z
UID:10003381-1747251000-1747258200@cthouston.org
SUMMARY:Meditation Level 3 (Advanced - Every Wednesday Evening)
DESCRIPTION:Click here to register
URL:https://cthouston.org/event/meditation-level-2-intermediate-every-wednesday-evening-2/2025-05-14/
LOCATION:Chung Tai Zen Center of Houston\, 12129 Bellaire Blvd\, Houston\, TX\, 77072
CATEGORIES:Classes,Ongoing
ATTACH;FMTTYPE=image/jpeg:https://cthouston.org/wp-content/uploads/2019/10/IMG_4599-e1572127420652.jpg
END:VEVENT
BEGIN:VEVENT
DTSTART;TZID=America/Chicago:20250514T193000
DTEND;TZID=America/Chicago:20250514T213000
DTSTAMP:20260424T084737
CREATED:20240802T190436Z
LAST-MODIFIED:20260324T134437Z
UID:10007477-1747251000-1747258200@cthouston.org
SUMMARY:Meditation Level 2 (Intermediate- Every Wednesday Evening)
DESCRIPTION:Click here to register
URL:https://cthouston.org/event/meditation-level-2-intermediate-2/2025-05-14/
LOCATION:Chung Tai Zen Center of Houston\, 12129 Bellaire Blvd\, Houston\, TX\, 77072
CATEGORIES:Classes,Ongoing
ATTACH;FMTTYPE=image/jpeg:https://cthouston.org/wp-content/uploads/2019/10/IMG_4599-e1572127420652.jpg
END:VEVENT
BEGIN:VEVENT
DTSTART;TZID=America/Chicago:20250515T190000
DTEND;TZID=America/Chicago:20250515T213000
DTSTAMP:20260424T084737
CREATED:20241121T120512Z
LAST-MODIFIED:20260324T134511Z
UID:10002330-1747335600-1747344600@cthouston.org
SUMMARY:Sutra Study 1 (Every Thursday Evening)
DESCRIPTION:Click here to register
URL:https://cthouston.org/event/sutra-study-1-every-thursday-evening-2-2-2-2/2025-05-15/
LOCATION:Chung Tai Zen Center of Houston\, 12129 Bellaire Blvd\, Houston\, TX\, 77072
CATEGORIES:Classes,Ongoing
ATTACH;FMTTYPE=image/jpeg:https://cthouston.org/wp-content/uploads/2019/10/IMG_4599-e1572127420652.jpg
END:VEVENT
BEGIN:VEVENT
DTSTART;TZID=America/Chicago:20250517T100000
DTEND;TZID=America/Chicago:20250517T120000
DTSTAMP:20260424T084737
CREATED:20240802T190828Z
LAST-MODIFIED:20260324T134542Z
UID:10002849-1747476000-1747483200@cthouston.org
SUMMARY:Meditation Level 1 (Beginner - Every Saturday Morning)
DESCRIPTION:Click here to register
URL:https://cthouston.org/event/meditation-level-1-beginner-every-saturday-morning-2-2/2025-05-17/
LOCATION:Chung Tai Zen Center of Houston\, 12129 Bellaire Blvd\, Houston\, TX\, 77072
CATEGORIES:Classes,Ongoing
ATTACH;FMTTYPE=image/jpeg:https://cthouston.org/wp-content/uploads/2019/10/IMG_4599-e1572127420652.jpg
END:VEVENT
BEGIN:VEVENT
DTSTART;TZID=America/Chicago:20250517T163000
DTEND;TZID=America/Chicago:20250517T180000
DTSTAMP:20260424T084737
CREATED:20240802T185901Z
LAST-MODIFIED:20250224T232439Z
UID:10003783-1747499400-1747504800@cthouston.org
SUMMARY:Children's Meditation (Every Saturday Evening)
DESCRIPTION:Children’s meditation class is for children of age 4 to 12 years old. This class is designed to help students discover their inner wisdom and develop their potential\, positive and moral outlook on life through meditation and Chan stories. The creatively designed curriculum consists of instructions on meditation techniques\, dharma talks\, Buddhist/Chan stories\, mind-developing activities\, group discussions\, and fun crafts. \nSchedule: \n4:30 p.m. Chanting & meditation \n5:00 p.m. Dharma talk \n5:30 p.m. Group activities \n6:00 p.m. Dinner \nClick here to register
URL:https://cthouston.org/event/childrens-meditation-class-saturday-2/2025-05-17/
LOCATION:Chung Tai Zen Center of Houston\, 12129 Bellaire Blvd\, Houston\, TX\, 77072
CATEGORIES:Classes,Ongoing
ATTACH;FMTTYPE=image/png:https://cthouston.org/wp-content/uploads/2023/07/ChildrensMeditation.png
END:VEVENT
BEGIN:VEVENT
DTSTART;TZID=America/Chicago:20250519T193000
DTEND;TZID=America/Chicago:20250519T213000
DTSTAMP:20260424T084737
CREATED:20241224T025503Z
LAST-MODIFIED:20260324T134720Z
UID:10001554-1747683000-1747690200@cthouston.org
SUMMARY:Meditation Level 1 (Beginner - Every Monday Evening)
DESCRIPTION:Click here to register
URL:https://cthouston.org/event/meditation-level-1-beginner-every-monday-evening-2-2-2/2025-05-19/
LOCATION:Chung Tai Zen Center of Houston\, 12129 Bellaire Blvd\, Houston\, TX\, 77072
CATEGORIES:Classes,Ongoing
ATTACH;FMTTYPE=image/jpeg:https://cthouston.org/wp-content/uploads/2019/10/IMG_4599-e1572127420652.jpg
END:VEVENT
BEGIN:VEVENT
DTSTART;TZID=America/Chicago:20250521T193000
DTEND;TZID=America/Chicago:20250521T213000
DTSTAMP:20260424T084737
CREATED:20240802T190013Z
LAST-MODIFIED:20260324T134356Z
UID:10003382-1747855800-1747863000@cthouston.org
SUMMARY:Meditation Level 3 (Advanced - Every Wednesday Evening)
DESCRIPTION:Click here to register
URL:https://cthouston.org/event/meditation-level-2-intermediate-every-wednesday-evening-2/2025-05-21/
LOCATION:Chung Tai Zen Center of Houston\, 12129 Bellaire Blvd\, Houston\, TX\, 77072
CATEGORIES:Classes,Ongoing
ATTACH;FMTTYPE=image/jpeg:https://cthouston.org/wp-content/uploads/2019/10/IMG_4599-e1572127420652.jpg
END:VEVENT
BEGIN:VEVENT
DTSTART;TZID=America/Chicago:20250521T193000
DTEND;TZID=America/Chicago:20250521T213000
DTSTAMP:20260424T084737
CREATED:20240802T190436Z
LAST-MODIFIED:20260324T134437Z
UID:10007478-1747855800-1747863000@cthouston.org
SUMMARY:Meditation Level 2 (Intermediate- Every Wednesday Evening)
DESCRIPTION:Click here to register
URL:https://cthouston.org/event/meditation-level-2-intermediate-2/2025-05-21/
LOCATION:Chung Tai Zen Center of Houston\, 12129 Bellaire Blvd\, Houston\, TX\, 77072
CATEGORIES:Classes,Ongoing
ATTACH;FMTTYPE=image/jpeg:https://cthouston.org/wp-content/uploads/2019/10/IMG_4599-e1572127420652.jpg
END:VEVENT
BEGIN:VEVENT
DTSTART;TZID=America/Chicago:20250522T190000
DTEND;TZID=America/Chicago:20250522T213000
DTSTAMP:20260424T084737
CREATED:20241121T120512Z
LAST-MODIFIED:20260324T134511Z
UID:10002331-1747940400-1747949400@cthouston.org
SUMMARY:Sutra Study 1 (Every Thursday Evening)
DESCRIPTION:Click here to register
URL:https://cthouston.org/event/sutra-study-1-every-thursday-evening-2-2-2-2/2025-05-22/
LOCATION:Chung Tai Zen Center of Houston\, 12129 Bellaire Blvd\, Houston\, TX\, 77072
CATEGORIES:Classes,Ongoing
ATTACH;FMTTYPE=image/jpeg:https://cthouston.org/wp-content/uploads/2019/10/IMG_4599-e1572127420652.jpg
END:VEVENT
BEGIN:VEVENT
DTSTART;TZID=America/Chicago:20250524T100000
DTEND;TZID=America/Chicago:20250524T120000
DTSTAMP:20260424T084737
CREATED:20240802T190828Z
LAST-MODIFIED:20260324T134542Z
UID:10002850-1748080800-1748088000@cthouston.org
SUMMARY:Meditation Level 1 (Beginner - Every Saturday Morning)
DESCRIPTION:Click here to register
URL:https://cthouston.org/event/meditation-level-1-beginner-every-saturday-morning-2-2/2025-05-24/
LOCATION:Chung Tai Zen Center of Houston\, 12129 Bellaire Blvd\, Houston\, TX\, 77072
CATEGORIES:Classes,Ongoing
ATTACH;FMTTYPE=image/jpeg:https://cthouston.org/wp-content/uploads/2019/10/IMG_4599-e1572127420652.jpg
END:VEVENT
BEGIN:VEVENT
DTSTART;TZID=America/Chicago:20250524T163000
DTEND;TZID=America/Chicago:20250524T180000
DTSTAMP:20260424T084737
CREATED:20240802T185901Z
LAST-MODIFIED:20250224T232439Z
UID:10003784-1748104200-1748109600@cthouston.org
SUMMARY:Children's Meditation (Every Saturday Evening)
DESCRIPTION:Children’s meditation class is for children of age 4 to 12 years old. This class is designed to help students discover their inner wisdom and develop their potential\, positive and moral outlook on life through meditation and Chan stories. The creatively designed curriculum consists of instructions on meditation techniques\, dharma talks\, Buddhist/Chan stories\, mind-developing activities\, group discussions\, and fun crafts. \nSchedule: \n4:30 p.m. Chanting & meditation \n5:00 p.m. Dharma talk \n5:30 p.m. Group activities \n6:00 p.m. Dinner \nClick here to register
URL:https://cthouston.org/event/childrens-meditation-class-saturday-2/2025-05-24/
LOCATION:Chung Tai Zen Center of Houston\, 12129 Bellaire Blvd\, Houston\, TX\, 77072
CATEGORIES:Classes,Ongoing
ATTACH;FMTTYPE=image/png:https://cthouston.org/wp-content/uploads/2023/07/ChildrensMeditation.png
END:VEVENT
BEGIN:VEVENT
DTSTART;TZID=America/Chicago:20250525T090000
DTEND;TZID=America/Chicago:20250525T120000
DTSTAMP:20260424T084737
CREATED:20250325T151004Z
LAST-MODIFIED:20250325T151004Z
UID:10008000-1748163600-1748174400@cthouston.org
SUMMARY:May Half-Day Meditation Retreat
DESCRIPTION:
URL:https://cthouston.org/event/may-half-day-meditation-retreat-2/
LOCATION:Chung Tai Zen Center of Houston\, 12129 Bellaire Blvd\, Houston\, TX\, 77072
CATEGORIES:FrontPage,Retreats
ATTACH;FMTTYPE=image/jpeg:https://cthouston.org/wp-content/uploads/2019/10/retreat.jpg
END:VEVENT
BEGIN:VEVENT
DTSTART;TZID=America/Chicago:20250526T193000
DTEND;TZID=America/Chicago:20250526T213000
DTSTAMP:20260424T084737
CREATED:20241224T025503Z
LAST-MODIFIED:20260324T134720Z
UID:10001555-1748287800-1748295000@cthouston.org
SUMMARY:Meditation Level 1 (Beginner - Every Monday Evening)
DESCRIPTION:Click here to register
URL:https://cthouston.org/event/meditation-level-1-beginner-every-monday-evening-2-2-2/2025-05-26/
LOCATION:Chung Tai Zen Center of Houston\, 12129 Bellaire Blvd\, Houston\, TX\, 77072
CATEGORIES:Classes,Ongoing
ATTACH;FMTTYPE=image/jpeg:https://cthouston.org/wp-content/uploads/2019/10/IMG_4599-e1572127420652.jpg
END:VEVENT
BEGIN:VEVENT
DTSTART;TZID=America/Chicago:20250528T193000
DTEND;TZID=America/Chicago:20250528T213000
DTSTAMP:20260424T084737
CREATED:20240802T190013Z
LAST-MODIFIED:20260324T134356Z
UID:10003383-1748460600-1748467800@cthouston.org
SUMMARY:Meditation Level 3 (Advanced - Every Wednesday Evening)
DESCRIPTION:Click here to register
URL:https://cthouston.org/event/meditation-level-2-intermediate-every-wednesday-evening-2/2025-05-28/
LOCATION:Chung Tai Zen Center of Houston\, 12129 Bellaire Blvd\, Houston\, TX\, 77072
CATEGORIES:Classes,Ongoing
ATTACH;FMTTYPE=image/jpeg:https://cthouston.org/wp-content/uploads/2019/10/IMG_4599-e1572127420652.jpg
END:VEVENT
BEGIN:VEVENT
DTSTART;TZID=America/Chicago:20250528T193000
DTEND;TZID=America/Chicago:20250528T213000
DTSTAMP:20260424T084737
CREATED:20240802T190436Z
LAST-MODIFIED:20260324T134437Z
UID:10007479-1748460600-1748467800@cthouston.org
SUMMARY:Meditation Level 2 (Intermediate- Every Wednesday Evening)
DESCRIPTION:Click here to register
URL:https://cthouston.org/event/meditation-level-2-intermediate-2/2025-05-28/
LOCATION:Chung Tai Zen Center of Houston\, 12129 Bellaire Blvd\, Houston\, TX\, 77072
CATEGORIES:Classes,Ongoing
ATTACH;FMTTYPE=image/jpeg:https://cthouston.org/wp-content/uploads/2019/10/IMG_4599-e1572127420652.jpg
END:VEVENT
BEGIN:VEVENT
DTSTART;TZID=America/Chicago:20250529T190000
DTEND;TZID=America/Chicago:20250529T213000
DTSTAMP:20260424T084737
CREATED:20241121T120512Z
LAST-MODIFIED:20260324T134511Z
UID:10002332-1748545200-1748554200@cthouston.org
SUMMARY:Sutra Study 1 (Every Thursday Evening)
DESCRIPTION:Click here to register
URL:https://cthouston.org/event/sutra-study-1-every-thursday-evening-2-2-2-2/2025-05-29/
LOCATION:Chung Tai Zen Center of Houston\, 12129 Bellaire Blvd\, Houston\, TX\, 77072
CATEGORIES:Classes,Ongoing
ATTACH;FMTTYPE=image/jpeg:https://cthouston.org/wp-content/uploads/2019/10/IMG_4599-e1572127420652.jpg
END:VEVENT
BEGIN:VEVENT
DTSTART;TZID=America/Chicago:20250531T100000
DTEND;TZID=America/Chicago:20250531T120000
DTSTAMP:20260424T084737
CREATED:20240802T190828Z
LAST-MODIFIED:20260324T134542Z
UID:10002851-1748685600-1748692800@cthouston.org
SUMMARY:Meditation Level 1 (Beginner - Every Saturday Morning)
DESCRIPTION:Click here to register
URL:https://cthouston.org/event/meditation-level-1-beginner-every-saturday-morning-2-2/2025-05-31/
LOCATION:Chung Tai Zen Center of Houston\, 12129 Bellaire Blvd\, Houston\, TX\, 77072
CATEGORIES:Classes,Ongoing
ATTACH;FMTTYPE=image/jpeg:https://cthouston.org/wp-content/uploads/2019/10/IMG_4599-e1572127420652.jpg
END:VEVENT
END:VCALENDAR