BEGIN:VCALENDAR
VERSION:2.0
PRODID:-//Chung Tai Zen||Center of Houston||普德精舍 - ECPv6.15.17.1//NONSGML v1.0//EN
CALSCALE:GREGORIAN
METHOD:PUBLISH
X-WR-CALNAME:Chung Tai Zen||Center of Houston||普德精舍
X-ORIGINAL-URL:https://cthouston.org/?lang=zh-hant
X-WR-CALDESC:Events for Chung Tai Zen||Center of Houston||普德精舍
REFRESH-INTERVAL;VALUE=DURATION:PT1H
X-Robots-Tag:noindex
X-PUBLISHED-TTL:PT1H
BEGIN:VTIMEZONE
TZID:America/Chicago
BEGIN:DAYLIGHT
TZOFFSETFROM:-0600
TZOFFSETTO:-0500
TZNAME:CDT
DTSTART:20250309T080000
END:DAYLIGHT
BEGIN:STANDARD
TZOFFSETFROM:-0500
TZOFFSETTO:-0600
TZNAME:CST
DTSTART:20251102T070000
END:STANDARD
BEGIN:DAYLIGHT
TZOFFSETFROM:-0600
TZOFFSETTO:-0500
TZNAME:CDT
DTSTART:20260308T080000
END:DAYLIGHT
BEGIN:STANDARD
TZOFFSETFROM:-0500
TZOFFSETTO:-0600
TZNAME:CST
DTSTART:20261101T070000
END:STANDARD
BEGIN:DAYLIGHT
TZOFFSETFROM:-0600
TZOFFSETTO:-0500
TZNAME:CDT
DTSTART:20270314T080000
END:DAYLIGHT
BEGIN:STANDARD
TZOFFSETFROM:-0500
TZOFFSETTO:-0600
TZNAME:CST
DTSTART:20271107T070000
END:STANDARD
END:VTIMEZONE
BEGIN:VEVENT
DTSTART;VALUE=DATE:20260314
DTEND;VALUE=DATE:20260323
DTSTAMP:20260422T202607
CREATED:20251221T215426Z
LAST-MODIFIED:20251221T215426Z
UID:10009511-1773446400-1774223999@cthouston.org
SUMMARY:梁皇寶懺大法會
DESCRIPTION:
URL:https://cthouston.org/event/%e6%a2%81%e7%9a%87%e5%af%b6%e6%87%ba%e5%a4%a7%e6%b3%95%e6%9c%83-4/?lang=zh-hant
LOCATION:Chung Tai Zen Center of Houston\, 12129 Bellaire Blvd\, Houston\, TX\, 77072
CATEGORIES:法會,首頁
ATTACH;FMTTYPE=image/jpeg:https://cthouston.org/wp-content/uploads/2025/12/梁皇寶懺2026.jpg
END:VEVENT
BEGIN:VEVENT
DTSTART;TZID=America/Chicago:20260321T140000
DTEND;TZID=America/Chicago:20260321T160000
DTSTAMP:20260422T202607
CREATED:20241121T123429Z
LAST-MODIFIED:20260224T205336Z
UID:10005846-1774101600-1774108800@cthouston.org
SUMMARY:誦經共修（每週六）
DESCRIPTION:每週六下午\, 2:00-4:00點。
URL:https://cthouston.org/event/%e8%aa%a6%e7%b6%93%e5%85%b1%e4%bf%ae%ef%bc%88%e6%af%8f%e9%80%b1%e5%85%ad%ef%bc%89-3/2026-03-21/?lang=zh-hant
LOCATION:TX
CATEGORIES:禪修課,進行中
ATTACH;FMTTYPE=image/jpeg:https://cthouston.org/wp-content/uploads/2022/11/DSF9701-scaled.jpg
END:VEVENT
END:VCALENDAR